BEGIN:VCALENDAR
VERSION:2.0
PRODID:-//CHRISTOPHER TRAPANI - ECPv6.15.17.1//NONSGML v1.0//EN
CALSCALE:GREGORIAN
METHOD:PUBLISH
X-WR-CALNAME:CHRISTOPHER TRAPANI
X-ORIGINAL-URL:http://christophertrapani.com/wordpresssite
X-WR-CALDESC:Events for CHRISTOPHER TRAPANI
REFRESH-INTERVAL;VALUE=DURATION:PT1H
X-Robots-Tag:noindex
X-PUBLISHED-TTL:PT1H
BEGIN:VTIMEZONE
TZID:America/New_York
BEGIN:DAYLIGHT
TZOFFSETFROM:-0500
TZOFFSETTO:-0400
TZNAME:EDT
DTSTART:20240310T070000
END:DAYLIGHT
BEGIN:STANDARD
TZOFFSETFROM:-0400
TZOFFSETTO:-0500
TZNAME:EST
DTSTART:20241103T060000
END:STANDARD
BEGIN:DAYLIGHT
TZOFFSETFROM:-0500
TZOFFSETTO:-0400
TZNAME:EDT
DTSTART:20250309T070000
END:DAYLIGHT
BEGIN:STANDARD
TZOFFSETFROM:-0400
TZOFFSETTO:-0500
TZNAME:EST
DTSTART:20251102T060000
END:STANDARD
BEGIN:DAYLIGHT
TZOFFSETFROM:-0500
TZOFFSETTO:-0400
TZNAME:EDT
DTSTART:20260308T070000
END:DAYLIGHT
BEGIN:STANDARD
TZOFFSETFROM:-0400
TZOFFSETTO:-0500
TZNAME:EST
DTSTART:20261101T060000
END:STANDARD
END:VTIMEZONE
BEGIN:VEVENT
DTSTART;TZID=America/New_York:20250306T190000
DTEND;TZID=America/New_York:20250306T213000
DTSTAMP:20260424T102635
CREATED:20250225T191423Z
LAST-MODIFIED:20250225T191423Z
UID:3257-1741287600-1741296600@christophertrapani.com
SUMMARY:Adventurous Guitar in Houston
DESCRIPTION:improvisation on lap steel + electronics
URL:http://christophertrapani.com/wordpresssite/event/adventurous-guitar-in-houston/
LOCATION:Wortham Theatre at Alice Pratt Brown Hall\, Alice Pratt Brown Hall\, 6100 Main St\, Houston\, TX\, 77005\, United States
END:VEVENT
BEGIN:VEVENT
DTSTART;TZID=America/New_York:20250307T150000
DTEND;TZID=America/New_York:20250308T233000
DTSTAMP:20260424T102635
CREATED:20250225T191646Z
LAST-MODIFIED:20250225T191646Z
UID:3260-1741359600-1741476600@christophertrapani.com
SUMMARY:Summit for Adventurous Electric Guitar in the Gulf South
DESCRIPTION:
URL:http://christophertrapani.com/wordpresssite/event/summit-for-adventurous-electric-guitar-in-the-gulf-south/
LOCATION:LSU Digital Media Center\, 888 S Stadium Drive\, Baton Rouge\, LA\, 70808
END:VEVENT
BEGIN:VEVENT
DTSTART;TZID=America/New_York:20250323T163000
DTEND;TZID=America/New_York:20250323T180000
DTSTAMP:20260424T102635
CREATED:20250315T142141Z
LAST-MODIFIED:20250315T142141Z
UID:3263-1742747400-1742752800@christophertrapani.com
SUMMARY:Forty-Nine\, Forty-Nine
DESCRIPTION:MicroFest 2025 / Fokker organ
URL:http://christophertrapani.com/wordpresssite/event/forty-nine-forty-nine/
LOCATION:Muziekgebouw aan ‘t IJ\, Piet Heinkade 1\, Amsterdam\, 1019 \, Netherlands
END:VEVENT
END:VCALENDAR