BEGIN:VCALENDAR
VERSION:2.0
PRODID:-//CHRISTOPHER TRAPANI - ECPv6.15.17.1//NONSGML v1.0//EN
CALSCALE:GREGORIAN
METHOD:PUBLISH
X-ORIGINAL-URL:http://christophertrapani.com/wordpresssite
X-WR-CALDESC:Events for CHRISTOPHER TRAPANI
REFRESH-INTERVAL;VALUE=DURATION:PT1H
X-Robots-Tag:noindex
X-PUBLISHED-TTL:PT1H
BEGIN:VTIMEZONE
TZID:America/New_York
BEGIN:DAYLIGHT
TZOFFSETFROM:-0500
TZOFFSETTO:-0400
TZNAME:EDT
DTSTART:20230312T070000
END:DAYLIGHT
BEGIN:STANDARD
TZOFFSETFROM:-0400
TZOFFSETTO:-0500
TZNAME:EST
DTSTART:20231105T060000
END:STANDARD
BEGIN:DAYLIGHT
TZOFFSETFROM:-0500
TZOFFSETTO:-0400
TZNAME:EDT
DTSTART:20240310T070000
END:DAYLIGHT
BEGIN:STANDARD
TZOFFSETFROM:-0400
TZOFFSETTO:-0500
TZNAME:EST
DTSTART:20241103T060000
END:STANDARD
BEGIN:DAYLIGHT
TZOFFSETFROM:-0500
TZOFFSETTO:-0400
TZNAME:EDT
DTSTART:20250309T070000
END:DAYLIGHT
BEGIN:STANDARD
TZOFFSETFROM:-0400
TZOFFSETTO:-0500
TZNAME:EST
DTSTART:20251102T060000
END:STANDARD
END:VTIMEZONE
BEGIN:VEVENT
DTSTART;TZID=America/New_York:20241107T190000
DTEND;TZID=America/New_York:20241107T210000
DTSTAMP:20260424T165600
CREATED:20240610T124041Z
LAST-MODIFIED:20240610T124802Z
UID:3194-1731006000-1731013200@christophertrapani.com
SUMMARY:NOISE UPRISING — CD release
DESCRIPTION:Sofia Jernberg / Sophia Burgos / ZWERM
URL:http://christophertrapani.com/wordpresssite/event/noise-uprising-cd-release/
LOCATION:Bijloke\, Ghent\, Belgium
END:VEVENT
BEGIN:VEVENT
DTSTART;TZID=America/New_York:20241122T190000
DTEND;TZID=America/New_York:20241122T190000
DTSTAMP:20260424T165600
CREATED:20240826T150411Z
LAST-MODIFIED:20240826T150446Z
UID:3213-1732302000-1732302000@christophertrapani.com
SUMMARY:NOISE UPRISING
DESCRIPTION:Sophia Burgos / Sofia Jernberg / Zwerm
URL:http://christophertrapani.com/wordpresssite/event/noise-uprising/
LOCATION:Huddersfield Contemporary Music Festival\, Huddersfield\, United Kingdom
END:VEVENT
END:VCALENDAR