BEGIN:VCALENDAR
VERSION:2.0
PRODID:-//CHRISTOPHER TRAPANI - ECPv6.15.17.1//NONSGML v1.0//EN
CALSCALE:GREGORIAN
METHOD:PUBLISH
X-ORIGINAL-URL:http://christophertrapani.com/wordpresssite
X-WR-CALDESC:Events for CHRISTOPHER TRAPANI
REFRESH-INTERVAL;VALUE=DURATION:PT1H
X-Robots-Tag:noindex
X-PUBLISHED-TTL:PT1H
BEGIN:VTIMEZONE
TZID:America/New_York
BEGIN:DAYLIGHT
TZOFFSETFROM:-0500
TZOFFSETTO:-0400
TZNAME:EDT
DTSTART:20220313T070000
END:DAYLIGHT
BEGIN:STANDARD
TZOFFSETFROM:-0400
TZOFFSETTO:-0500
TZNAME:EST
DTSTART:20221106T060000
END:STANDARD
BEGIN:DAYLIGHT
TZOFFSETFROM:-0500
TZOFFSETTO:-0400
TZNAME:EDT
DTSTART:20230312T070000
END:DAYLIGHT
BEGIN:STANDARD
TZOFFSETFROM:-0400
TZOFFSETTO:-0500
TZNAME:EST
DTSTART:20231105T060000
END:STANDARD
BEGIN:DAYLIGHT
TZOFFSETFROM:-0500
TZOFFSETTO:-0400
TZNAME:EDT
DTSTART:20240310T070000
END:DAYLIGHT
BEGIN:STANDARD
TZOFFSETFROM:-0400
TZOFFSETTO:-0500
TZNAME:EST
DTSTART:20241103T060000
END:STANDARD
END:VTIMEZONE
BEGIN:VEVENT
DTSTART;TZID=America/New_York:20231022T173000
DTEND;TZID=America/New_York:20231022T190000
DTSTAMP:20260425T142747
CREATED:20230614T215151Z
LAST-MODIFIED:20230614T215325Z
UID:3165-1697995800-1698001200@christophertrapani.com
SUMMARY:Noise Uprising — World Premiere
DESCRIPTION:Sofia Jernberg / Sophia Burgos\, voices\nZwerm Electric Guitar Quartet
URL:http://christophertrapani.com/wordpresssite/event/noise-uprising-world-premiere-2/
END:VEVENT
BEGIN:VEVENT
DTSTART;TZID=America/New_York:20231025T180000
DTEND;TZID=America/New_York:20231025T180000
DTSTAMP:20260425T142747
CREATED:20230905T011249Z
LAST-MODIFIED:20230905T011249Z
UID:3177-1698256800-1698256800@christophertrapani.com
SUMMARY:Sing Into My Mouth — US Premiere
DESCRIPTION:Louisiana Philharmonic Orchestra / Matthew Kraemer\, conductor
URL:http://christophertrapani.com/wordpresssite/event/sing-into-my-mouth-us-premiere/
LOCATION:New Marigny Theatre\, 2301 Marais St\, New Orleans\, LA\, 70117
END:VEVENT
END:VCALENDAR