BEGIN:VCALENDAR
VERSION:2.0
PRODID:-//CHRISTOPHER TRAPANI - ECPv6.15.17.1//NONSGML v1.0//EN
CALSCALE:GREGORIAN
METHOD:PUBLISH
X-ORIGINAL-URL:http://christophertrapani.com/wordpresssite
X-WR-CALDESC:Events for CHRISTOPHER TRAPANI
REFRESH-INTERVAL;VALUE=DURATION:PT1H
X-Robots-Tag:noindex
X-PUBLISHED-TTL:PT1H
BEGIN:VTIMEZONE
TZID:America/New_York
BEGIN:DAYLIGHT
TZOFFSETFROM:-0500
TZOFFSETTO:-0400
TZNAME:EDT
DTSTART:20140309T070000
END:DAYLIGHT
BEGIN:STANDARD
TZOFFSETFROM:-0400
TZOFFSETTO:-0500
TZNAME:EST
DTSTART:20141102T060000
END:STANDARD
BEGIN:DAYLIGHT
TZOFFSETFROM:-0500
TZOFFSETTO:-0400
TZNAME:EDT
DTSTART:20150308T070000
END:DAYLIGHT
BEGIN:STANDARD
TZOFFSETFROM:-0400
TZOFFSETTO:-0500
TZNAME:EST
DTSTART:20151101T060000
END:STANDARD
BEGIN:DAYLIGHT
TZOFFSETFROM:-0500
TZOFFSETTO:-0400
TZNAME:EDT
DTSTART:20160313T070000
END:DAYLIGHT
BEGIN:STANDARD
TZOFFSETFROM:-0400
TZOFFSETTO:-0500
TZNAME:EST
DTSTART:20161106T060000
END:STANDARD
BEGIN:DAYLIGHT
TZOFFSETFROM:-0500
TZOFFSETTO:-0400
TZNAME:EDT
DTSTART:20170312T070000
END:DAYLIGHT
BEGIN:STANDARD
TZOFFSETFROM:-0400
TZOFFSETTO:-0500
TZNAME:EST
DTSTART:20171105T060000
END:STANDARD
END:VTIMEZONE
BEGIN:VTIMEZONE
TZID:Europe/Amsterdam
BEGIN:DAYLIGHT
TZOFFSETFROM:+0100
TZOFFSETTO:+0200
TZNAME:CEST
DTSTART:20150329T010000
END:DAYLIGHT
BEGIN:STANDARD
TZOFFSETFROM:+0200
TZOFFSETTO:+0100
TZNAME:CET
DTSTART:20151025T010000
END:STANDARD
BEGIN:DAYLIGHT
TZOFFSETFROM:+0100
TZOFFSETTO:+0200
TZNAME:CEST
DTSTART:20160327T010000
END:DAYLIGHT
BEGIN:STANDARD
TZOFFSETFROM:+0200
TZOFFSETTO:+0100
TZNAME:CET
DTSTART:20161030T010000
END:STANDARD
BEGIN:DAYLIGHT
TZOFFSETFROM:+0100
TZOFFSETTO:+0200
TZNAME:CEST
DTSTART:20170326T010000
END:DAYLIGHT
BEGIN:STANDARD
TZOFFSETFROM:+0200
TZOFFSETTO:+0100
TZNAME:CET
DTSTART:20171029T010000
END:STANDARD
END:VTIMEZONE
BEGIN:VTIMEZONE
TZID:Europe/Brussels
BEGIN:DAYLIGHT
TZOFFSETFROM:+0100
TZOFFSETTO:+0200
TZNAME:CEST
DTSTART:20150329T010000
END:DAYLIGHT
BEGIN:STANDARD
TZOFFSETFROM:+0200
TZOFFSETTO:+0100
TZNAME:CET
DTSTART:20151025T010000
END:STANDARD
BEGIN:DAYLIGHT
TZOFFSETFROM:+0100
TZOFFSETTO:+0200
TZNAME:CEST
DTSTART:20160327T010000
END:DAYLIGHT
BEGIN:STANDARD
TZOFFSETFROM:+0200
TZOFFSETTO:+0100
TZNAME:CET
DTSTART:20161030T010000
END:STANDARD
BEGIN:DAYLIGHT
TZOFFSETFROM:+0100
TZOFFSETTO:+0200
TZNAME:CEST
DTSTART:20170326T010000
END:DAYLIGHT
BEGIN:STANDARD
TZOFFSETFROM:+0200
TZOFFSETTO:+0100
TZNAME:CET
DTSTART:20171029T010000
END:STANDARD
END:VTIMEZONE
BEGIN:VEVENT
DTSTART;TZID=America/New_York:20160728T193000
DTEND;TZID=America/New_York:20160728T193000
DTSTAMP:20260424T020416
CREATED:20160709T122020Z
LAST-MODIFIED:20160709T122020Z
UID:1404-1469734200-1469734200@christophertrapani.com
SUMMARY:don't know what alright even means
DESCRIPTION:Bowdoin International Music Festival \nGamper Festival of Contemporary Music
URL:http://christophertrapani.com/wordpresssite/event/dont-know-what-alright-even-means/
LOCATION:Studzinski Recital Hall\, 12 Campus Rd S\, Brunswick\, ME\, United States
END:VEVENT
BEGIN:VEVENT
DTSTART;TZID=America/New_York:20160607T200000
DTEND;TZID=America/New_York:20160607T220000
DTSTAMP:20260424T020416
CREATED:20150902T095907Z
LAST-MODIFIED:20150902T100008Z
UID:1231-1465329600-1465336800@christophertrapani.com
SUMMARY:Two Folksong Distortions
DESCRIPTION:Tom Pauwels\, guitar and electronics \nLiesa Van der Aa\, voice\, violin\, and effects
URL:http://christophertrapani.com/wordpresssite/event/two-folksong-distortions-london/
LOCATION:Cafe Oto\, 18-22 Ashwin Street\, London\, United Kingdom
END:VEVENT
BEGIN:VEVENT
DTSTART;TZID=America/New_York:20160604T190000
DTEND;TZID=America/New_York:20160604T210000
DTSTAMP:20260424T020416
CREATED:20160412T004115Z
LAST-MODIFIED:20160412T004115Z
UID:1382-1465066800-1465074000@christophertrapani.com
SUMMARY:Anyplace Else — AUSTRIAN PREMIERE
DESCRIPTION:Aspekte Festival \nICE and Enesmble L’Itinéraire \nJean-Michaël Lavoie\, conductor
URL:http://christophertrapani.com/wordpresssite/event/anyplace-else-austrian-premiere/
LOCATION:republic\, Anton-Neumayr-Platz 2\, Salzburg\, 5020\, Austria
END:VEVENT
BEGIN:VEVENT
DTSTART;TZID=America/New_York:20160523T200000
DTEND;TZID=America/New_York:20160523T200000
DTSTAMP:20260424T020416
CREATED:20150826T204708Z
LAST-MODIFIED:20160422T220840Z
UID:1103-1464033600-1464033600@christophertrapani.com
SUMMARY:Lost Time Triptych
DESCRIPTION:Marilyn Nonken\, piano scordatura \nVortex Temporum commissioning project
URL:http://christophertrapani.com/wordpresssite/event/new-work-for-retuned-piano-brooklyn/
LOCATION:Roulette\, 509 Atlantic Avenue (at the corner of 3rd Avenue)\, Brooklyn\, NY\, 11217\, United States
END:VEVENT
BEGIN:VEVENT
DTSTART;TZID=Europe/Amsterdam:20160522T110000
DTEND;TZID=Europe/Amsterdam:20160522T130000
DTSTAMP:20260424T020416
CREATED:20160517T203833Z
LAST-MODIFIED:20160517T203928Z
UID:1396-1463914800-1463922000@christophertrapani.com
SUMMARY:Forty-Nine\, Forty-Nine
DESCRIPTION:MIDI-controlled Fokker Organ
URL:http://christophertrapani.com/wordpresssite/event/4949-2016/
LOCATION:Muziekgebouw aan ‘t IJ\, Piet Heinkade 1\, Amsterdam\, 1019 \, Netherlands
END:VEVENT
BEGIN:VEVENT
DTSTART;TZID=America/New_York:20160519T200000
DTEND;TZID=America/New_York:20160519T200000
DTSTAMP:20260424T020416
CREATED:20150826T204545Z
LAST-MODIFIED:20160321T204023Z
UID:1101-1463688000-1463688000@christophertrapani.com
SUMMARY:Lost Time Triptych — WORLD PREMIERE
DESCRIPTION:Marilyn Nonken\, piano scordatura \nVortex Temporum commissioning project
URL:http://christophertrapani.com/wordpresssite/event/new-work-for-retuned-piano/
LOCATION:Distler Hall at Tufts University\, 20 Talbot Ave.\, Medford\, MA\, United States
END:VEVENT
BEGIN:VEVENT
DTSTART;TZID=America/New_York:20160509T190000
DTEND;TZID=America/New_York:20160509T210000
DTSTAMP:20260424T020416
CREATED:20150821T175747Z
LAST-MODIFIED:20150821T175747Z
UID:748-1462820400-1462827600@christophertrapani.com
SUMMARY:Waterlines
DESCRIPTION:CSO MusicNow \nMusicians from Chicago Symphony Orchestra \nCliff Colnot\, conductor \nTony Arnold\, Soprano
URL:http://christophertrapani.com/wordpresssite/event/waterlines-chicago/
LOCATION:Harris Theater at Millenium Park\, 205 E. Randolph Drive\, Chicago\, United States
END:VEVENT
BEGIN:VEVENT
DTSTART;TZID=Europe/Brussels:20160427T180000
DTEND;TZID=Europe/Brussels:20160427T200000
DTSTAMP:20260424T020416
CREATED:20151224T053843Z
LAST-MODIFIED:20151224T053843Z
UID:1321-1461780000-1461787200@christophertrapani.com
SUMMARY:Two Folksong Distortions
DESCRIPTION:Tom Pauwels\, guitar and electronics \nLiesa Van der Aa\, voice\, violin\, and effects
URL:http://christophertrapani.com/wordpresssite/event/two-folksong-distortions-lille/
LOCATION:Opera de Lille\, Lille\, France
END:VEVENT
BEGIN:VEVENT
DTSTART;TZID=America/New_York:20160424T180000
DTEND;TZID=America/New_York:20160424T180000
DTSTAMP:20260424T020416
CREATED:20160213T222640Z
LAST-MODIFIED:20160401T184039Z
UID:1346-1461520800-1461520800@christophertrapani.com
SUMMARY:Hafenlieder
DESCRIPTION:Collect/Project \nFrauke Aubert\, voice \nShanna Gutierrez\, flute \nEva Zöllner\, accordion
URL:http://christophertrapani.com/wordpresssite/event/new-work-voice-flute-accordion/
LOCATION:Bunkerrauschen\, Hamburg\, Germany
END:VEVENT
BEGIN:VEVENT
DTSTART;TZID=America/New_York:20160423T160000
DTEND;TZID=America/New_York:20160423T170000
DTSTAMP:20260424T020416
CREATED:20160213T222552Z
LAST-MODIFIED:20160401T184016Z
UID:1344-1461427200-1461430800@christophertrapani.com
SUMMARY:Hafenlieder
DESCRIPTION:Collect/Project \nFrauke Aubert\, voice \nShanna Gutierrez\, flute \nEva Zöllner\, accordion
URL:http://christophertrapani.com/wordpresssite/event/new-work-for-voice-flute-and-accordion-3/
LOCATION:Bunkerrauschen\, Hamburg\, Germany
END:VEVENT
BEGIN:VEVENT
DTSTART;TZID=America/New_York:20160421T200000
DTEND;TZID=America/New_York:20160421T200000
DTSTAMP:20260424T020416
CREATED:20160213T222408Z
LAST-MODIFIED:20160401T183849Z
UID:1342-1461268800-1461268800@christophertrapani.com
SUMMARY:Hafenlieder
DESCRIPTION:Collect/Project \nFrauke Aubert\, voice \nShanna Gutierrez\, flute \nEva Zöllner\, accordion
URL:http://christophertrapani.com/wordpresssite/event/new-work-for-voice-flute-and-accordion-2/
LOCATION:GNMR\, Essen\, Germany
END:VEVENT
BEGIN:VEVENT
DTSTART;TZID=America/New_York:20160421T193000
DTEND;TZID=America/New_York:20160421T220000
DTSTAMP:20260424T020416
CREATED:20160213T052735Z
LAST-MODIFIED:20160213T052830Z
UID:1336-1461267000-1461276000@christophertrapani.com
SUMMARY:Passing Through\, Staying Put
DESCRIPTION:Longleash piano trio
URL:http://christophertrapani.com/wordpresssite/event/passing-through-staying-put-empac/
LOCATION:EMPAC\, The Curtis R. Preim Media and Performing Arts Center  Rennselaer Polytechnic Institute\, Troy\, NY\, United States
ORGANIZER;CN="Unnamed Organizer":MAILTO:christophertrapani@gmail.com
END:VEVENT
BEGIN:VEVENT
DTSTART;TZID=America/New_York:20160417T210000
DTEND;TZID=America/New_York:20160417T210000
DTSTAMP:20260424T020416
CREATED:20160213T053640Z
LAST-MODIFIED:20160401T183823Z
UID:1340-1460926800-1460926800@christophertrapani.com
SUMMARY:Hafenlieder — WORLD PREMIERE
DESCRIPTION:Collect/Project \nFrauke Aubert\, voice \nShanna Gutierrez\, flute \nEva Zöllner\, accordion
URL:http://christophertrapani.com/wordpresssite/event/new-work-for-voice-flute-and-accordion/
LOCATION:Radialsystem\, Berlin\, Germany
END:VEVENT
BEGIN:VEVENT
DTSTART;TZID=America/New_York:20160314T181500
DTEND;TZID=America/New_York:20160314T200000
DTSTAMP:20260424T020416
CREATED:20160213T052429Z
LAST-MODIFIED:20160214T161943Z
UID:1333-1457979300-1457985600@christophertrapani.com
SUMMARY:Passing Through\, Staying Put — POLISH PREMIERE
DESCRIPTION:Musica Moderna International Festival \nPoniedziałek\, 14 marca 2016 \n18.15  MUZYKA AMERYKAŃSKA \nSala kameralna Akademii Muzycznej\, al. 1 Maja 4 \nMałgorzata Drzewicka – skrzypce \nSylwia Misiak – wiolonczela \nMałgorzata Knapińska – fortepian
URL:http://christophertrapani.com/wordpresssite/event/passing-through-staying-put-poland/
LOCATION:Unnamed Venue\, Lodz\, Poland
END:VEVENT
BEGIN:VEVENT
DTSTART;TZID=America/New_York:20160311T200000
DTEND;TZID=America/New_York:20160311T200000
DTSTAMP:20260424T020416
CREATED:20150821T175941Z
LAST-MODIFIED:20150821T180252Z
UID:750-1457726400-1457726400@christophertrapani.com
SUMMARY:Writing Against Time
DESCRIPTION:Yarn/Wire plays Columbia Composers
URL:http://christophertrapani.com/wordpresssite/event/writing-against-time-cc/
LOCATION:DiMenna Center\, 450 W 37th St\, New York
END:VEVENT
BEGIN:VEVENT
DTSTART;TZID=America/New_York:20160226T203000
DTEND;TZID=America/New_York:20160226T203000
DTSTAMP:20260424T020416
CREATED:20150826T104230Z
LAST-MODIFIED:20150826T104249Z
UID:1056-1456518600-1456518600@christophertrapani.com
SUMMARY:Two Folksong Distortions
DESCRIPTION:American Lament (Studio Version) \nTom Pauwels and Liesa Van der Aa
URL:http://christophertrapani.com/wordpresssite/event/two-folksong-distortions-2/
LOCATION:Kaaistudios\, 81 Rue Notre-Dame du Sommeil\, 1000 Brussels\, Brussels\, Belgium
END:VEVENT
BEGIN:VEVENT
DTSTART;TZID=America/New_York:20160225T203000
DTEND;TZID=America/New_York:20160225T203000
DTSTAMP:20260424T020416
CREATED:20150826T104048Z
LAST-MODIFIED:20150826T104048Z
UID:1054-1456432200-1456432200@christophertrapani.com
SUMMARY:Two Folksong Distortions
DESCRIPTION:American Lament (Studio Version) \nTom Pauwels and Liesa Van der Aa
URL:http://christophertrapani.com/wordpresssite/event/two-folksong-distortions/
LOCATION:Kaaistudios\, 81 Rue Notre-Dame du Sommeil\, 1000 Brussels\, Brussels\, Belgium
END:VEVENT
BEGIN:VEVENT
DTSTART;TZID=America/New_York:20160219T080000
DTEND;TZID=America/New_York:20160219T170000
DTSTAMP:20260424T020416
CREATED:20160205T182748Z
LAST-MODIFIED:20160205T182748Z
UID:1327-1455868800-1455901200@christophertrapani.com
SUMMARY:The Silence of a Falling Star Lights Up a Purple Sky
DESCRIPTION:Marilyn Nonken\, piano
URL:http://christophertrapani.com/wordpresssite/event/the-silence-of-a-falling-star-lights-up-a-purple-sky-3/
LOCATION:NYU Black Box Theater\, 82 Washington Square East\, New York\, NY\, 10003\, United States
END:VEVENT
BEGIN:VEVENT
DTSTART;TZID=America/New_York:20160213T200000
DTEND;TZID=America/New_York:20160213T200000
DTSTAMP:20260424T020416
CREATED:20150821T180224Z
LAST-MODIFIED:20150826T113925Z
UID:752-1455393600-1455393600@christophertrapani.com
SUMMARY:Waterlines / Two Folksong Distortions
DESCRIPTION:ICTUS \nChristie Finn\, soprano \nLiesa Van der Aa\, voice\, violin\, and effects \nTom Pauwels\, guitar
URL:http://christophertrapani.com/wordpresssite/event/waterlines-folk-song-distortions/
LOCATION:Handelsbeurs Concertzaal\, Ghent\, Belgium
END:VEVENT
BEGIN:VEVENT
DTSTART;TZID=America/New_York:20160201T073000
DTEND;TZID=America/New_York:20160201T220000
DTSTAMP:20260424T020416
CREATED:20151218T052408Z
LAST-MODIFIED:20151219T234528Z
UID:1315-1454311800-1454364000@christophertrapani.com
SUMMARY:The Silence of a Falling Star Lights Up a Purple Sky
DESCRIPTION:Marilyn Nonken\, piano
URL:http://christophertrapani.com/wordpresssite/event/the-silence-of-a-falling-star-lights-up-a-purple-sky-2/
LOCATION:Le Poisson Rouge\, 158 Bleecker St\, New York\, NY\, 10012\, United States
END:VEVENT
BEGIN:VEVENT
DTSTART;TZID=America/New_York:20160127T200000
DTEND;TZID=America/New_York:20160127T200000
DTSTAMP:20260424T020416
CREATED:20150826T222028Z
LAST-MODIFIED:20150826T222028Z
UID:1121-1453924800-1453924800@christophertrapani.com
SUMMARY:The Silence of a Falling Star Lights Up a Purple Sky
DESCRIPTION:Marilyn Nonken\, piano
URL:http://christophertrapani.com/wordpresssite/event/the-silence-of-a-falling-star-lights-up-a-purple-sky-phil/
LOCATION:Rose Recital Hall\, University of Pennsylvania\, Philadelphia\, PA\, United States
END:VEVENT
BEGIN:VEVENT
DTSTART;TZID=America/New_York:20151129T130000
DTEND;TZID=America/New_York:20151129T170000
DTSTAMP:20260424T020416
CREATED:20150722T095719Z
LAST-MODIFIED:20151024T122716Z
UID:152-1448802000-1448816400@christophertrapani.com
SUMMARY:Difficult Places — WORLD PREMIERE
DESCRIPTION:collaboration with video artist Leonel Dietsche\nEnsemble Modern\, Johannes Kalitzke\, conductor
URL:http://christophertrapani.com/wordpresssite/event/difficult-places-world-premiere/
LOCATION:Unnamed Venue\, Hanau\, Germany
END:VEVENT
BEGIN:VEVENT
DTSTART;TZID=America/New_York:20151127T200000
DTEND;TZID=America/New_York:20151127T200000
DTSTAMP:20260424T020416
CREATED:20150826T124315Z
LAST-MODIFIED:20150826T124350Z
UID:1085-1448654400-1448654400@christophertrapani.com
SUMMARY:Really Coming Down
DESCRIPTION:Christelle Séry\, guitar
URL:http://christophertrapani.com/wordpresssite/event/really-coming-down-taiwan/
LOCATION:WOCMAT\, National Chiao Tung University (Taiwan)\, Taiwan
END:VEVENT
BEGIN:VEVENT
DTSTART;TZID=America/New_York:20151124T193000
DTEND;TZID=America/New_York:20151124T193000
DTSTAMP:20260424T020416
CREATED:20150724T142105Z
LAST-MODIFIED:20150724T142105Z
UID:172-1448393400-1448393400@christophertrapani.com
SUMMARY:Visions and Revisions — GERMAN PREMIERE
DESCRIPTION:JACK Quartet
URL:http://christophertrapani.com/wordpresssite/event/visions-and-revisions-german-premiere/
LOCATION:Grunelius-Saal im Holzhausenschlösschen\, Frankfurt\, Germany
END:VEVENT
BEGIN:VEVENT
DTSTART;TZID=America/New_York:20151118T200000
DTEND;TZID=America/New_York:20151118T200000
DTSTAMP:20260424T020416
CREATED:20150826T124153Z
LAST-MODIFIED:20150826T124153Z
UID:1083-1447876800-1447876800@christophertrapani.com
SUMMARY:Really Coming Down
DESCRIPTION:Christelle Séry\, guitar
URL:http://christophertrapani.com/wordpresssite/event/really-coming-down-paris/
LOCATION:Les Voutes\, 19 rue des Frigos \, Paris\, 75013\, France
END:VEVENT
BEGIN:VEVENT
DTSTART;TZID=America/New_York:20151116T200000
DTEND;TZID=America/New_York:20151116T220000
DTSTAMP:20260424T020416
CREATED:20150905T145942Z
LAST-MODIFIED:20150905T145942Z
UID:1242-1447704000-1447711200@christophertrapani.com
SUMMARY:Visions and Revisions
DESCRIPTION:JACK Quartet
URL:http://christophertrapani.com/wordpresssite/event/visions-and-revisions-boston/
LOCATION:Boston University\, College of Fine Arts\, 855 Commonwealth Ave\, Boston\, MA\, United States
END:VEVENT
BEGIN:VEVENT
DTSTART;TZID=America/New_York:20151103T200000
DTEND;TZID=America/New_York:20151103T220000
DTSTAMP:20260424T020416
CREATED:20151018T162333Z
LAST-MODIFIED:20151018T162333Z
UID:1277-1446580800-1446588000@christophertrapani.com
SUMMARY:Difficult Places — Preview
DESCRIPTION:Happy New Ears — preview of the cresc… biennale \nEnsemble Modern
URL:http://christophertrapani.com/wordpresssite/event/difficult-places-preview/
LOCATION:Holzfoyer\, Oper Frankfurt\, Frankfurt\, Germany
END:VEVENT
BEGIN:VEVENT
DTSTART;TZID=America/New_York:20151018T150000
DTEND;TZID=America/New_York:20151018T170000
DTSTAMP:20260424T020416
CREATED:20150826T103400Z
LAST-MODIFIED:20150826T103400Z
UID:1052-1445180400-1445187600@christophertrapani.com
SUMMARY:Visions and Revisions
DESCRIPTION:JACK Quartet \nSONiC Festival
URL:http://christophertrapani.com/wordpresssite/event/visions-and-revisions/
LOCATION:Merkin Concert Hall\, 129 W 67th St\, New York\, NY\, United States
END:VEVENT
BEGIN:VEVENT
DTSTART;TZID=America/New_York:20151012T203000
DTEND;TZID=America/New_York:20151012T220000
DTSTAMP:20260424T020416
CREATED:20150930T184536Z
LAST-MODIFIED:20150930T184628Z
UID:1257-1444681800-1444687200@christophertrapani.com
SUMMARY:Leaving Lute — FRENCH PREMIERE
DESCRIPTION:Ensemble L’Itinéraire
URL:http://christophertrapani.com/wordpresssite/event/leaving-lute-french-premiere/
LOCATION:Fondation Deutsch de la Meurthe\, Cité internationale de Paris\, 34 boulevard Jourdan\, Paris\, 75014\, France
END:VEVENT
BEGIN:VEVENT
DTSTART;TZID=America/New_York:20150930T200000
DTEND;TZID=America/New_York:20150930T200000
DTSTAMP:20260424T020416
CREATED:20150722T100123Z
LAST-MODIFIED:20150722T100123Z
UID:141-1443643200-1443643200@christophertrapani.com
SUMMARY:Isolario — WORLD PREMIERE
DESCRIPTION:Quatuor Béla. Electronics by GRAME.
URL:http://christophertrapani.com/wordpresssite/event/isolario-world-premiere/
LOCATION:MC2\, Grenoble\, France
END:VEVENT
END:VCALENDAR