BEGIN:VCALENDAR
VERSION:2.0
PRODID:-//CHRISTOPHER TRAPANI - ECPv6.15.17.1//NONSGML v1.0//EN
CALSCALE:GREGORIAN
METHOD:PUBLISH
X-WR-CALNAME:CHRISTOPHER TRAPANI
X-ORIGINAL-URL:http://christophertrapani.com/wordpresssite
X-WR-CALDESC:Events for CHRISTOPHER TRAPANI
REFRESH-INTERVAL;VALUE=DURATION:PT1H
X-Robots-Tag:noindex
X-PUBLISHED-TTL:PT1H
BEGIN:VTIMEZONE
TZID:America/New_York
BEGIN:DAYLIGHT
TZOFFSETFROM:-0500
TZOFFSETTO:-0400
TZNAME:EDT
DTSTART:20160313T070000
END:DAYLIGHT
BEGIN:STANDARD
TZOFFSETFROM:-0400
TZOFFSETTO:-0500
TZNAME:EST
DTSTART:20161106T060000
END:STANDARD
BEGIN:DAYLIGHT
TZOFFSETFROM:-0500
TZOFFSETTO:-0400
TZNAME:EDT
DTSTART:20170312T070000
END:DAYLIGHT
BEGIN:STANDARD
TZOFFSETFROM:-0400
TZOFFSETTO:-0500
TZNAME:EST
DTSTART:20171105T060000
END:STANDARD
BEGIN:DAYLIGHT
TZOFFSETFROM:-0500
TZOFFSETTO:-0400
TZNAME:EDT
DTSTART:20180311T070000
END:DAYLIGHT
BEGIN:STANDARD
TZOFFSETFROM:-0400
TZOFFSETTO:-0500
TZNAME:EST
DTSTART:20181104T060000
END:STANDARD
END:VTIMEZONE
BEGIN:VTIMEZONE
TZID:Europe/London
BEGIN:DAYLIGHT
TZOFFSETFROM:+0000
TZOFFSETTO:+0100
TZNAME:BST
DTSTART:20160327T010000
END:DAYLIGHT
BEGIN:STANDARD
TZOFFSETFROM:+0100
TZOFFSETTO:+0000
TZNAME:GMT
DTSTART:20161030T010000
END:STANDARD
BEGIN:DAYLIGHT
TZOFFSETFROM:+0000
TZOFFSETTO:+0100
TZNAME:BST
DTSTART:20170326T010000
END:DAYLIGHT
BEGIN:STANDARD
TZOFFSETFROM:+0100
TZOFFSETTO:+0000
TZNAME:GMT
DTSTART:20171029T010000
END:STANDARD
BEGIN:DAYLIGHT
TZOFFSETFROM:+0000
TZOFFSETTO:+0100
TZNAME:BST
DTSTART:20180325T010000
END:DAYLIGHT
BEGIN:STANDARD
TZOFFSETFROM:+0100
TZOFFSETTO:+0000
TZNAME:GMT
DTSTART:20181028T010000
END:STANDARD
END:VTIMEZONE
BEGIN:VTIMEZONE
TZID:Europe/Paris
BEGIN:DAYLIGHT
TZOFFSETFROM:+0100
TZOFFSETTO:+0200
TZNAME:CEST
DTSTART:20160327T010000
END:DAYLIGHT
BEGIN:STANDARD
TZOFFSETFROM:+0200
TZOFFSETTO:+0100
TZNAME:CET
DTSTART:20161030T010000
END:STANDARD
BEGIN:DAYLIGHT
TZOFFSETFROM:+0100
TZOFFSETTO:+0200
TZNAME:CEST
DTSTART:20170326T010000
END:DAYLIGHT
BEGIN:STANDARD
TZOFFSETFROM:+0200
TZOFFSETTO:+0100
TZNAME:CET
DTSTART:20171029T010000
END:STANDARD
BEGIN:DAYLIGHT
TZOFFSETFROM:+0100
TZOFFSETTO:+0200
TZNAME:CEST
DTSTART:20180325T010000
END:DAYLIGHT
BEGIN:STANDARD
TZOFFSETFROM:+0200
TZOFFSETTO:+0100
TZNAME:CET
DTSTART:20181028T010000
END:STANDARD
END:VTIMEZONE
BEGIN:VTIMEZONE
TZID:Europe/Rome
BEGIN:DAYLIGHT
TZOFFSETFROM:+0100
TZOFFSETTO:+0200
TZNAME:CEST
DTSTART:20160327T010000
END:DAYLIGHT
BEGIN:STANDARD
TZOFFSETFROM:+0200
TZOFFSETTO:+0100
TZNAME:CET
DTSTART:20161030T010000
END:STANDARD
BEGIN:DAYLIGHT
TZOFFSETFROM:+0100
TZOFFSETTO:+0200
TZNAME:CEST
DTSTART:20170326T010000
END:DAYLIGHT
BEGIN:STANDARD
TZOFFSETFROM:+0200
TZOFFSETTO:+0100
TZNAME:CET
DTSTART:20171029T010000
END:STANDARD
BEGIN:DAYLIGHT
TZOFFSETFROM:+0100
TZOFFSETTO:+0200
TZNAME:CEST
DTSTART:20180325T010000
END:DAYLIGHT
BEGIN:STANDARD
TZOFFSETFROM:+0200
TZOFFSETTO:+0100
TZNAME:CET
DTSTART:20181028T010000
END:STANDARD
END:VTIMEZONE
BEGIN:VEVENT
DTSTART;TZID=America/New_York:20171213T200000
DTEND;TZID=America/New_York:20171213T220000
DTSTAMP:20260423T223601
CREATED:20170830T083050Z
LAST-MODIFIED:20170830T083050Z
UID:1823-1513195200-1513202400@christophertrapani.com
SUMMARY:Tesserae
DESCRIPTION:Marco Fusi\, viola d’amore
URL:http://christophertrapani.com/wordpresssite/event/tesserae/
LOCATION:Queen’s University Belfast\, Belfast
END:VEVENT
BEGIN:VEVENT
DTSTART;TZID=America/New_York:20171201T190000
DTEND;TZID=America/New_York:20171201T213000
DTSTAMP:20260423T223601
CREATED:20170828T110054Z
LAST-MODIFIED:20171129T000810Z
UID:1819-1512154800-1512163800@christophertrapani.com
SUMMARY:End Words
DESCRIPTION:Ekmeles + \nalongside new works by Kaija Saariaho and John Cage
URL:http://christophertrapani.com/wordpresssite/event/end-words-december-2017/
LOCATION:DiMenna Center\, 450 W 37th St\, New York
END:VEVENT
BEGIN:VEVENT
DTSTART;TZID=America/New_York:20171121T200000
DTEND;TZID=America/New_York:20171121T220000
DTSTAMP:20260423T223601
CREATED:20170405T125718Z
LAST-MODIFIED:20170616T132832Z
UID:1759-1511294400-1511301600@christophertrapani.com
SUMMARY:Shotgun Shoegaze — UK PREMIERE
DESCRIPTION:“Our Ears Felt Like Canyons” \nZWERM electric guitar quartet \nHuddersfield Contemporary Music Festival\, UK
URL:http://christophertrapani.com/wordpresssite/event/zwerm-huddersfield/
LOCATION:TX
END:VEVENT
BEGIN:VEVENT
DTSTART;TZID=America/New_York:20171118T200000
DTEND;TZID=America/New_York:20171118T200000
DTSTAMP:20260423T223601
CREATED:20170521T224804Z
LAST-MODIFIED:20170521T224843Z
UID:1766-1511035200-1511035200@christophertrapani.com
SUMMARY:PolychROME — UK PREMIERE
DESCRIPTION:Ensemble Modern \nBrad Lubman\, conductor \nHuddersfield Contemporary Music Festival
URL:http://christophertrapani.com/wordpresssite/event/polychrome-huddersfield/
LOCATION:Huddersfield Contemporary Music Festival\, Huddersfield\, United Kingdom
END:VEVENT
BEGIN:VEVENT
DTSTART;TZID=Europe/London:20171117T133000
DTEND;TZID=Europe/London:20171117T153000
DTSTAMP:20260423T223601
CREATED:20171029T112600Z
LAST-MODIFIED:20171029T112600Z
UID:1882-1510925400-1510932600@christophertrapani.com
SUMMARY:hcmf lecture
DESCRIPTION:lecture on recent works at the Huddersfield Contemporary Music Festival
URL:http://christophertrapani.com/wordpresssite/event/cerenem-lecture/
LOCATION:CeReNeM\, Huddersfield\, United Kingdom
END:VEVENT
BEGIN:VEVENT
DTSTART;TZID=America/New_York:20171106T190000
DTEND;TZID=America/New_York:20171106T210000
DTSTAMP:20260423T223601
CREATED:20170828T103239Z
LAST-MODIFIED:20171016T211450Z
UID:1816-1509994800-1510002000@christophertrapani.com
SUMMARY:Longue Durée for voice\, accordion\, and electronics
DESCRIPTION:Angèle Chemin\, soprano \nVincent Lhermet\, accordion \nElectronics realized by Max Bruckert at Grame (Lyon)
URL:http://christophertrapani.com/wordpresssite/event/new-work-voice-accordion-electronics/
LOCATION:CRR de Boulogne-Billancourt\, 22 Rue de la Belle Feuille\, Boulogne-Billancourt\, 92100\, France
END:VEVENT
BEGIN:VEVENT
DTSTART;TZID=America/New_York:20171103T200000
DTEND;TZID=America/New_York:20171103T213000
DTSTAMP:20260423T223601
CREATED:20170828T102906Z
LAST-MODIFIED:20171016T211523Z
UID:1813-1509739200-1509744600@christophertrapani.com
SUMMARY:Longue Durée for voice\, accordion\, and electronics — WORLD PREMIERE
DESCRIPTION:Angèle Chemin\, soprano \nVincent Lhermet\, accordion \nElectronics realized by Max Bruckert at Grame (Lyon)
URL:http://christophertrapani.com/wordpresssite/event/longue-duree/
LOCATION:Théâtre Le Petit Vélo\, Clermont-Ferrand\, France
END:VEVENT
BEGIN:VEVENT
DTSTART;TZID=America/New_York:20171022T200000
DTEND;TZID=America/New_York:20171022T220000
DTSTAMP:20260423T223601
CREATED:20170405T125605Z
LAST-MODIFIED:20170616T132906Z
UID:1756-1508702400-1508709600@christophertrapani.com
SUMMARY:Shotgun Shoegaze — BELGIAN PREMIERE
DESCRIPTION:“Our Ears Felt Like Canyons” \nZWERM electric guitar quartet \nTransit Festival\, Leuven\, Belgium
URL:http://christophertrapani.com/wordpresssite/event/zwerm-leuven/
LOCATION:TX
END:VEVENT
BEGIN:VEVENT
DTSTART;TZID=America/New_York:20171014T193000
DTEND;TZID=America/New_York:20171014T213000
DTSTAMP:20260423T223601
CREATED:20170827T185235Z
LAST-MODIFIED:20171008T172249Z
UID:1808-1508009400-1508016600@christophertrapani.com
SUMMARY:Waterlines — Manhattan premiere
DESCRIPTION:Talea Ensemble: FOLK TUNES \nLucy Dhegrae\, voice \nJim Baker\, conductor
URL:http://christophertrapani.com/wordpresssite/event/waterlines-manhattan-premiere/
LOCATION:DiMenna Center\, 450 W 37th St\, New York
END:VEVENT
BEGIN:VEVENT
DTSTART;TZID=America/New_York:20171001T170000
DTEND;TZID=America/New_York:20171001T170000
DTSTAMP:20260423T223601
CREATED:20170827T185506Z
LAST-MODIFIED:20170827T185506Z
UID:1810-1506877200-1506877200@christophertrapani.com
SUMMARY:Passing Through\, Staying Put
DESCRIPTION:Longleash Piano Trio — “Passage” Album Release Show
URL:http://christophertrapani.com/wordpresssite/event/passing-staying-put/
LOCATION:Le Poisson Rouge\, 158 Bleecker St\, New York\, NY\, 10012\, United States
END:VEVENT
BEGIN:VEVENT
DTSTART;TZID=America/New_York:20170929T190000
DTEND;TZID=America/New_York:20170929T210000
DTSTAMP:20260423T223601
CREATED:20170827T184721Z
LAST-MODIFIED:20170827T185046Z
UID:1804-1506711600-1506718800@christophertrapani.com
SUMMARY:Waterlines — Wisconsin premiere
DESCRIPTION:Present Music \nLucy Dhegrae\, voice \nDavid Bloom\, conductor
URL:http://christophertrapani.com/wordpresssite/event/waterlines-wisconsin/
LOCATION:Milwaukee Institute of Art and Design (River Level)\, Milwaukee\, WI
END:VEVENT
BEGIN:VEVENT
DTSTART;TZID=America/New_York:20170906T201500
DTEND;TZID=America/New_York:20170906T220000
DTSTAMP:20260423T223601
CREATED:20170303T141530Z
LAST-MODIFIED:20170303T142348Z
UID:1669-1504728900-1504735200@christophertrapani.com
SUMMARY:Sparrow Episodes
DESCRIPTION:Asko/Schönberg Ensemble \nBas Wiegers\, conductor \nGaudeamus Muziekweek 2017 \n 
URL:http://christophertrapani.com/wordpresssite/event/sparrow-episodes-utrecht/
LOCATION:TivoliVredenburg\, Vredenburgkade 11\, Utrecht\, WC\, 3511\, Netherlands
END:VEVENT
BEGIN:VEVENT
DTSTART;TZID=America/New_York:20170821T200000
DTEND;TZID=America/New_York:20170821T223000
DTSTAMP:20260423T223601
CREATED:20170316T164947Z
LAST-MODIFIED:20170616T133022Z
UID:1721-1503345600-1503354600@christophertrapani.com
SUMMARY:Shotgun Shoegaze - WORLD PREMIERE
DESCRIPTION:“Our Ears Felt Like Canyons” \nZWERM electric guitar quartet \nRuhrtriennale
URL:http://christophertrapani.com/wordpresssite/event/zwerm-premiere/
LOCATION:Maschinehaus Essen\, Wilhelm-Nieswandt-Allee 100\, Essen\, 45326\, Germany
END:VEVENT
BEGIN:VEVENT
DTSTART;TZID=America/New_York:20170712T080000
DTEND;TZID=America/New_York:20170712T170000
DTSTAMP:20260423T223601
CREATED:20170621T090805Z
LAST-MODIFIED:20170621T090805Z
UID:1798-1499846400-1499878800@christophertrapani.com
SUMMARY:Two Folksong Distortions — ISRAELI PREMIERE
DESCRIPTION:Tom Pauwels and Liesa Van der Aa \nTzlil Meudcan Festival
URL:http://christophertrapani.com/wordpresssite/event/two-folksong-distortions-israeli-premiere/
LOCATION:HaTeiva\, Jaffa\, Israel
END:VEVENT
BEGIN:VEVENT
DTSTART;TZID=America/New_York:20170624T220000
DTEND;TZID=America/New_York:20170624T220000
DTSTAMP:20260423T223601
CREATED:20170616T131545Z
LAST-MODIFIED:20170616T131545Z
UID:1781-1498341600-1498341600@christophertrapani.com
SUMMARY:Two Folksong Distortions
DESCRIPTION:Tom Pauwels / Liesa van der Aa \nICTUS – Short is the Night (Saint John’s Eve) \n 
URL:http://christophertrapani.com/wordpresssite/event/two-folksong-distortions-3/
LOCATION:Handelsbeurs Concertzaal\, Ghent\, Belgium
END:VEVENT
BEGIN:VEVENT
DTSTART;TZID=America/New_York:20170606T183000
DTEND;TZID=America/New_York:20170606T200000
DTSTAMP:20260423T223601
CREATED:20161126T113447Z
LAST-MODIFIED:20170531T104619Z
UID:1519-1496773800-1496779200@christophertrapani.com
SUMMARY:Isolario / Visions and Revisions
DESCRIPTION:Spektral Quartet \nTrustees Week at the American Academy in Rome
URL:http://christophertrapani.com/wordpresssite/event/isolario-visions-and-revisions/
LOCATION:Villa Aurelia\, Largo di Porta S. Pancrazio\, 2\, Rome\, 00165\, Italy
END:VEVENT
BEGIN:VEVENT
DTSTART;TZID=America/New_York:20170525T190000
DTEND;TZID=America/New_York:20170525T210000
DTSTAMP:20260423T223601
CREATED:20170513T051441Z
LAST-MODIFIED:20170520T145336Z
UID:1764-1495738800-1495746000@christophertrapani.com
SUMMARY:Sing Into My Mouth — ITALIAN PREMIERE
DESCRIPTION:Orchestra Sinfonica Abruzzese\nTonino Battista\, conductor\nFestival L’Aquila Contemporanea Plurale\nAuditorium del Parco\, L’Aquila
URL:http://christophertrapani.com/wordpresssite/event/sing-mouth-italian-premiere/
LOCATION:TX
END:VEVENT
BEGIN:VEVENT
DTSTART;TZID=America/New_York:20170520T193000
DTEND;TZID=America/New_York:20170520T193000
DTSTAMP:20260423T223601
CREATED:20161004T103849Z
LAST-MODIFIED:20170406T173548Z
UID:1438-1495308600-1495308600@christophertrapani.com
SUMMARY:End Words — WORLD PREMIERE
DESCRIPTION:Ekmeles
URL:http://christophertrapani.com/wordpresssite/event/end-words-world-premiere/
LOCATION:DiMenna Center\, 450 W 37th St\, New York
END:VEVENT
BEGIN:VEVENT
DTSTART;TZID=Europe/Paris:20170519T200000
DTEND;TZID=Europe/Paris:20170519T200000
DTSTAMP:20260423T223601
CREATED:20161019T075147Z
LAST-MODIFIED:20170330T162906Z
UID:1515-1495224000-1495224000@christophertrapani.com
SUMMARY:PolychROME
DESCRIPTION:Ensemble L’Itinéraire + International Contemporary Ensemble (ICE) \nJean-Michaël Lavoie\, conductor
URL:http://christophertrapani.com/wordpresssite/event/polychrome-19may/
LOCATION:Festival Marseille Les Musiques\, Marseille\, France
END:VEVENT
BEGIN:VEVENT
DTSTART;TZID=America/New_York:20170515T200000
DTEND;TZID=America/New_York:20170515T220000
DTSTAMP:20260423T223601
CREATED:20170111T114011Z
LAST-MODIFIED:20170111T114011Z
UID:1543-1494878400-1494885600@christophertrapani.com
SUMMARY:PolychROME — FRENCH PREMIERE
DESCRIPTION:Ensemble L’Itinéraire + International Contemporary Ensemble (ICE) \nJean-Michaël Lavoie\, conductor
URL:http://christophertrapani.com/wordpresssite/event/polychrome-15may-2/
LOCATION:Festival Extension\, Paris\, France
END:VEVENT
BEGIN:VEVENT
DTSTART;TZID=America/New_York:20170508T200000
DTEND;TZID=America/New_York:20170508T200000
DTSTAMP:20260423T223601
CREATED:20161224T122615Z
LAST-MODIFIED:20170329T223055Z
UID:1527-1494273600-1494273600@christophertrapani.com
SUMMARY:PolychROME
DESCRIPTION:Ensemble Modern \nBrad Lubman\, conductor
URL:http://christophertrapani.com/wordpresssite/event/polychrome-8may/
LOCATION:TX
END:VEVENT
BEGIN:VEVENT
DTSTART;TZID=America/New_York:20170507T110000
DTEND;TZID=America/New_York:20170507T170000
DTSTAMP:20260423T223601
CREATED:20161004T104123Z
LAST-MODIFIED:20170111T112901Z
UID:1440-1494154800-1494176400@christophertrapani.com
SUMMARY:PolychROME — GERMAN PREMIERE
DESCRIPTION:Wittener Tage für neue Kammermusik \nEnsemble Modern \nBrad Lubman\, conductor
URL:http://christophertrapani.com/wordpresssite/event/polychrome-7may/
LOCATION:Wittener Tage für Neue Kammermusik\, Witten\, Germany
END:VEVENT
BEGIN:VEVENT
DTSTART;TZID=America/New_York:20170502T190000
DTEND;TZID=America/New_York:20170502T220000
DTSTAMP:20260423T223601
CREATED:20170202T103640Z
LAST-MODIFIED:20170315T215144Z
UID:1651-1493751600-1493762400@christophertrapani.com
SUMMARY:PolychROME
DESCRIPTION:Ensemble L’Itinéraire + International Contemporary Ensemble (ICE) \nJean-Michaël Lavoie\, conductor
URL:http://christophertrapani.com/wordpresssite/event/polychrome-2may/
LOCATION:Dartmouth College\, Hanover\, NH\, United States
END:VEVENT
BEGIN:VEVENT
DTSTART;TZID=America/New_York:20170426T190000
DTEND;TZID=America/New_York:20170426T200000
DTSTAMP:20260423T223601
CREATED:20161004T103700Z
LAST-MODIFIED:20170224T153348Z
UID:1436-1493233200-1493236800@christophertrapani.com
SUMMARY:Tesseræ — US PREMIERE
DESCRIPTION:Marco Fusi\, viola d’amore
URL:http://christophertrapani.com/wordpresssite/event/tesserae-2/
LOCATION:Italian Academy at Columbia University\, 1161 Amsterdam Avenue\, New York\, NY\, 10027\, United States
END:VEVENT
BEGIN:VEVENT
DTSTART;TZID=America/New_York:20170425T200000
DTEND;TZID=America/New_York:20170425T200000
DTSTAMP:20260423T223601
CREATED:20161004T104022Z
LAST-MODIFIED:20170319T091048Z
UID:1439-1493150400-1493150400@christophertrapani.com
SUMMARY:PolychROME — WORLD PREMIERE
DESCRIPTION:Ensemble L’Itinéraire + International Contemporary Ensemble (ICE) \nJean-Michaël Lavoie\, conductor
URL:http://christophertrapani.com/wordpresssite/event/polychrome-25april/
LOCATION:Roulette\, 509 Atlantic Avenue (at the corner of 3rd Avenue)\, Brooklyn\, NY\, 11217\, United States
END:VEVENT
BEGIN:VEVENT
DTSTART;TZID=America/New_York:20170417T190000
DTEND;TZID=America/New_York:20170417T210000
DTSTAMP:20260423T223601
CREATED:20170326T152357Z
LAST-MODIFIED:20170326T152357Z
UID:1732-1492455600-1492462800@christophertrapani.com
SUMMARY:Passing Through\, Staying Put - NEBRASKA PREMIERE
DESCRIPTION:Longleash Piano Trio
URL:http://christophertrapani.com/wordpresssite/event/passing-staying-put-april2017/
LOCATION:University of Nebraska\, Kearney
END:VEVENT
BEGIN:VEVENT
DTSTART;TZID=Europe/Rome:20170412T203000
DTEND;TZID=Europe/Rome:20170412T203000
DTSTAMP:20260423T223601
CREATED:20161004T103509Z
LAST-MODIFIED:20170224T145819Z
UID:1433-1492029000-1492029000@christophertrapani.com
SUMMARY:Tesseræ — WORLD PREMIERE
DESCRIPTION:Marco Fusi\, viola d’amore
URL:http://christophertrapani.com/wordpresssite/event/tesserae-1/
LOCATION:Casa Museo Giacinto Scelsi\, Via di San Teodoro 8\, Rome\, 00186\, Italy
END:VEVENT
BEGIN:VEVENT
DTSTART;TZID=America/New_York:20170325T190000
DTEND;TZID=America/New_York:20170325T220000
DTSTAMP:20260423T223601
CREATED:20170303T191802Z
LAST-MODIFIED:20170303T191802Z
UID:1712-1490468400-1490479200@christophertrapani.com
SUMMARY:Visions and Revisions
DESCRIPTION:JACK Quartet plays Columbia Composers
URL:http://christophertrapani.com/wordpresssite/event/visions-revisions-cc-2017/
LOCATION:DiMenna Center\, 450 W 37th St\, New York
END:VEVENT
BEGIN:VEVENT
DTSTART;TZID=America/New_York:20170218T200000
DTEND;TZID=America/New_York:20170218T200000
DTSTAMP:20260423T223601
CREATED:20161224T142348Z
LAST-MODIFIED:20161224T142348Z
UID:1535-1487448000-1487448000@christophertrapani.com
SUMMARY:Hafenlieder
DESCRIPTION:Collect/Project
URL:http://christophertrapani.com/wordpresssite/event/hafenlieder/
LOCATION:Rathauspassage\, Hamburg\, Germany
END:VEVENT
BEGIN:VEVENT
DTSTART;TZID=America/New_York:20170215T200000
DTEND;TZID=America/New_York:20170215T220000
DTSTAMP:20260423T223601
CREATED:20160801T162957Z
LAST-MODIFIED:20161115T200540Z
UID:1418-1487188800-1487196000@christophertrapani.com
SUMMARY:Waterlines / Two Folksong Distortions
DESCRIPTION:ICTUS \nChristie Finn\, soprano \nGeorges-Elie Octors\, conductor \nLiesa Van der Aa\, voice\, violin\, and effects \nTom Pauwels\, guitar
URL:http://christophertrapani.com/wordpresssite/event/waterlines-two-folksongs-antwerp/
LOCATION:de Singel\, Desguinlei 25.B\, Antwerp\, 2018\, Belgium
END:VEVENT
END:VCALENDAR