BEGIN:VCALENDAR
VERSION:2.0
PRODID:-//CHRISTOPHER TRAPANI - ECPv6.15.17.1//NONSGML v1.0//EN
CALSCALE:GREGORIAN
METHOD:PUBLISH
X-ORIGINAL-URL:http://christophertrapani.com/wordpresssite
X-WR-CALDESC:Events for CHRISTOPHER TRAPANI
REFRESH-INTERVAL;VALUE=DURATION:PT1H
X-Robots-Tag:noindex
X-PUBLISHED-TTL:PT1H
BEGIN:VTIMEZONE
TZID:America/New_York
BEGIN:DAYLIGHT
TZOFFSETFROM:-0500
TZOFFSETTO:-0400
TZNAME:EDT
DTSTART:20160313T070000
END:DAYLIGHT
BEGIN:STANDARD
TZOFFSETFROM:-0400
TZOFFSETTO:-0500
TZNAME:EST
DTSTART:20161106T060000
END:STANDARD
BEGIN:DAYLIGHT
TZOFFSETFROM:-0500
TZOFFSETTO:-0400
TZNAME:EDT
DTSTART:20170312T070000
END:DAYLIGHT
BEGIN:STANDARD
TZOFFSETFROM:-0400
TZOFFSETTO:-0500
TZNAME:EST
DTSTART:20171105T060000
END:STANDARD
BEGIN:DAYLIGHT
TZOFFSETFROM:-0500
TZOFFSETTO:-0400
TZNAME:EDT
DTSTART:20180311T070000
END:DAYLIGHT
BEGIN:STANDARD
TZOFFSETFROM:-0400
TZOFFSETTO:-0500
TZNAME:EST
DTSTART:20181104T060000
END:STANDARD
BEGIN:DAYLIGHT
TZOFFSETFROM:-0500
TZOFFSETTO:-0400
TZNAME:EDT
DTSTART:20190310T070000
END:DAYLIGHT
BEGIN:STANDARD
TZOFFSETFROM:-0400
TZOFFSETTO:-0500
TZNAME:EST
DTSTART:20191103T060000
END:STANDARD
END:VTIMEZONE
BEGIN:VTIMEZONE
TZID:Europe/Berlin
BEGIN:DAYLIGHT
TZOFFSETFROM:+0100
TZOFFSETTO:+0200
TZNAME:CEST
DTSTART:20170326T010000
END:DAYLIGHT
BEGIN:STANDARD
TZOFFSETFROM:+0200
TZOFFSETTO:+0100
TZNAME:CET
DTSTART:20171029T010000
END:STANDARD
BEGIN:DAYLIGHT
TZOFFSETFROM:+0100
TZOFFSETTO:+0200
TZNAME:CEST
DTSTART:20180325T010000
END:DAYLIGHT
BEGIN:STANDARD
TZOFFSETFROM:+0200
TZOFFSETTO:+0100
TZNAME:CET
DTSTART:20181028T010000
END:STANDARD
BEGIN:DAYLIGHT
TZOFFSETFROM:+0100
TZOFFSETTO:+0200
TZNAME:CEST
DTSTART:20190331T010000
END:DAYLIGHT
BEGIN:STANDARD
TZOFFSETFROM:+0200
TZOFFSETTO:+0100
TZNAME:CET
DTSTART:20191027T010000
END:STANDARD
END:VTIMEZONE
BEGIN:VTIMEZONE
TZID:Europe/London
BEGIN:DAYLIGHT
TZOFFSETFROM:+0000
TZOFFSETTO:+0100
TZNAME:BST
DTSTART:20160327T010000
END:DAYLIGHT
BEGIN:STANDARD
TZOFFSETFROM:+0100
TZOFFSETTO:+0000
TZNAME:GMT
DTSTART:20161030T010000
END:STANDARD
BEGIN:DAYLIGHT
TZOFFSETFROM:+0000
TZOFFSETTO:+0100
TZNAME:BST
DTSTART:20170326T010000
END:DAYLIGHT
BEGIN:STANDARD
TZOFFSETFROM:+0100
TZOFFSETTO:+0000
TZNAME:GMT
DTSTART:20171029T010000
END:STANDARD
BEGIN:DAYLIGHT
TZOFFSETFROM:+0000
TZOFFSETTO:+0100
TZNAME:BST
DTSTART:20180325T010000
END:DAYLIGHT
BEGIN:STANDARD
TZOFFSETFROM:+0100
TZOFFSETTO:+0000
TZNAME:GMT
DTSTART:20181028T010000
END:STANDARD
END:VTIMEZONE
BEGIN:VEVENT
DTSTART;TZID=America/New_York:20181111T203000
DTEND;TZID=America/New_York:20181111T220000
DTSTAMP:20260423T205247
CREATED:20180925T150437Z
LAST-MODIFIED:20180925T150437Z
UID:2429-1541968200-1541973600@christophertrapani.com
SUMMARY:Passing Through\, Staying Put
DESCRIPTION:Longleash
URL:http://christophertrapani.com/wordpresssite/event/passing-through-staying-put-chicago/
LOCATION:Constellation\, 3111 N Western Ave\, Chicago\, IL\, 60618
END:VEVENT
BEGIN:VEVENT
DTSTART;TZID=America/New_York:20181109T193000
DTEND;TZID=America/New_York:20181109T193000
DTSTAMP:20260423T205247
CREATED:20181109T150052Z
LAST-MODIFIED:20181109T150052Z
UID:2448-1541791800-1541791800@christophertrapani.com
SUMMARY:Passing Through\, Staying Put
DESCRIPTION:Longleash
URL:http://christophertrapani.com/wordpresssite/event/passing-through-staying-put-2/
LOCATION:TRAINA CENTER FOR THE ARTS\, 950 Main Street\, Worcester\, MA
END:VEVENT
BEGIN:VEVENT
DTSTART;TZID=America/New_York:20180911T193000
DTEND;TZID=America/New_York:20180911T220000
DTSTAMP:20260423T205247
CREATED:20180906T135546Z
LAST-MODIFIED:20180906T135546Z
UID:2426-1536694200-1536703200@christophertrapani.com
SUMMARY:Waterlines
DESCRIPTION:Resonant Bodies Festival \nLucy Dhegrae\, voice \nTalea Ensemble / James Baker\, conductor
URL:http://christophertrapani.com/wordpresssite/event/waterlines-resbods/
LOCATION:Roulette\, 509 Atlantic Avenue (at the corner of 3rd Avenue)\, Brooklyn\, NY\, 11217\, United States
END:VEVENT
BEGIN:VEVENT
DTSTART;TZID=America/New_York:20180809T193000
DTEND;TZID=America/New_York:20180809T210000
DTSTAMP:20260423T205247
CREATED:20180528T183555Z
LAST-MODIFIED:20180528T183804Z
UID:2273-1533843000-1533848400@christophertrapani.com
SUMMARY:Passing Through\, Staying Put
DESCRIPTION:JCT Trio
URL:http://christophertrapani.com/wordpresssite/event/passing-staying-put-rockport/
LOCATION:Rockport Opera House\, Rockport
END:VEVENT
BEGIN:VEVENT
DTSTART;TZID=America/New_York:20180808T193000
DTEND;TZID=America/New_York:20180808T213000
DTSTAMP:20260423T205247
CREATED:20180528T183743Z
LAST-MODIFIED:20180528T183743Z
UID:2277-1533756600-1533763800@christophertrapani.com
SUMMARY:Passing Through\, Staying Put
DESCRIPTION:JCT Trio
URL:http://christophertrapani.com/wordpresssite/event/passing-staying-put-fox-island/
LOCATION:Waterman’s Community Center\, North Haven
END:VEVENT
BEGIN:VEVENT
DTSTART;TZID=Europe/Berlin:20180725T110000
DTEND;TZID=Europe/Berlin:20180725T123000
DTSTAMP:20260423T205247
CREATED:20180420T103311Z
LAST-MODIFIED:20180430T102010Z
UID:2256-1532516400-1532521800@christophertrapani.com
SUMMARY:Single Coil — WORLD PREMIERE
DESCRIPTION:IMD Electric guitar class led by Yaron Deutsch \nDarmstadt\, Germany
URL:http://christophertrapani.com/wordpresssite/event/new-etude-electric-guitar-world-premiere/
LOCATION:IMD Darmstadt\, Germany
END:VEVENT
BEGIN:VEVENT
DTSTART;TZID=America/New_York:20180705T203000
DTEND;TZID=America/New_York:20180705T203000
DTSTAMP:20260423T205247
CREATED:20180304T060530Z
LAST-MODIFIED:20180304T060530Z
UID:2215-1530822600-1530822600@christophertrapani.com
SUMMARY:Passing Through\, Staying Put
DESCRIPTION:JCT Trio \nAspen Music Festival
URL:http://christophertrapani.com/wordpresssite/event/passing-staying-put-2/
LOCATION:Harris Concert Hall
END:VEVENT
BEGIN:VEVENT
DTSTART;TZID=America/New_York:20180702T190000
DTEND;TZID=America/New_York:20180702T210000
DTSTAMP:20260423T205247
CREATED:20180528T183318Z
LAST-MODIFIED:20180528T183318Z
UID:2270-1530558000-1530565200@christophertrapani.com
SUMMARY:Passing Through\, Staying Put
DESCRIPTION:JCT Trio
URL:http://christophertrapani.com/wordpresssite/event/passing-staying-jct-victoria-2/
END:VEVENT
BEGIN:VEVENT
DTSTART;TZID=America/New_York:20180701T143000
DTEND;TZID=America/New_York:20180701T170000
DTSTAMP:20260423T205247
CREATED:20180528T183139Z
LAST-MODIFIED:20180528T183341Z
UID:2268-1530455400-1530464400@christophertrapani.com
SUMMARY:Passing Through\, Staying Put
DESCRIPTION:JCT Trio
URL:http://christophertrapani.com/wordpresssite/event/passing-staying-put-jct-victoria/
END:VEVENT
BEGIN:VEVENT
DTSTART;TZID=America/New_York:20180621T213000
DTEND;TZID=America/New_York:20180621T223000
DTSTAMP:20260423T205247
CREATED:20180130T003429Z
LAST-MODIFIED:20180415T093421Z
UID:1970-1529616600-1529620200@christophertrapani.com
SUMMARY:Stellazione - WORLD PREMIERE
DESCRIPTION:new work for 4 electric guitars\, 2 pianos\, 2 basses\, 2 percussionists \nParco della Musica Contemporanea Ensemble\nTonino Battista\, conductor
URL:http://christophertrapani.com/wordpresssite/event/new-work-ravenna/
LOCATION:Artificerie Almagià\, Via dell'Almagià\, 2\, Ravenna\, Italy
END:VEVENT
BEGIN:VEVENT
DTSTART;TZID=America/New_York:20180526T200000
DTEND;TZID=America/New_York:20180526T220000
DTSTAMP:20260423T205248
CREATED:20171129T004430Z
LAST-MODIFIED:20180506T122912Z
UID:1927-1527364800-1527372000@christophertrapani.com
SUMMARY:End Words
DESCRIPTION:Ekmeles
URL:http://christophertrapani.com/wordpresssite/event/end-words-3/
LOCATION:Saint Peter’s Church\, 619 Lexington Ave\, New York\, 11102
END:VEVENT
BEGIN:VEVENT
DTSTART;TZID=America/New_York:20180518T210000
DTEND;TZID=America/New_York:20180518T220000
DTSTAMP:20260423T205248
CREATED:20180304T060108Z
LAST-MODIFIED:20180304T060245Z
UID:2210-1526677200-1526680800@christophertrapani.com
SUMMARY:Creux — WORLD PREMIERE
DESCRIPTION:Ensemble C Barré \nGMEM / Festival Les Musiques
URL:http://christophertrapani.com/wordpresssite/event/creux-world-premiere/
LOCATION:Friche La Belle de Mai\,  41 Rue Jobin\, Marseille\, 13003
END:VEVENT
BEGIN:VEVENT
DTSTART;TZID=America/New_York:20180505T200000
DTEND;TZID=America/New_York:20180505T213000
DTSTAMP:20260423T205248
CREATED:20171129T005035Z
LAST-MODIFIED:20180411T174719Z
UID:1932-1525550400-1525555800@christophertrapani.com
SUMMARY:Shotgun Shoegaze — Danish Premiere
DESCRIPTION:ZWERM
URL:http://christophertrapani.com/wordpresssite/event/shotgun-shoegaze-spor/
LOCATION:Spor Festival\, Aarhus\, Denmark
END:VEVENT
BEGIN:VEVENT
DTSTART;TZID=America/New_York:20180430T200000
DTEND;TZID=America/New_York:20180430T220000
DTSTAMP:20260423T205248
CREATED:20180130T002711Z
LAST-MODIFIED:20180130T002711Z
UID:1964-1525118400-1525125600@christophertrapani.com
SUMMARY:Writing Against Time - EUROPEAN PREMIERE
DESCRIPTION:Berlin PianoPercussion\nTime Expandings I
URL:http://christophertrapani.com/wordpresssite/event/writing-time-european-premiere/
LOCATION:Konzerthaus Berlin\, Werner-Otto-Saal\, Gendarmenmarkt\, Berlin\, 10117\, Germany
END:VEVENT
BEGIN:VEVENT
DTSTART;TZID=America/New_York:20180321T193000
DTEND;TZID=America/New_York:20180321T210000
DTSTAMP:20260423T205248
CREATED:20171206T030725Z
LAST-MODIFIED:20171206T030725Z
UID:1939-1521660600-1521666000@christophertrapani.com
SUMMARY:Visions and Revisions — Louisiana Premeire
DESCRIPTION:Ulysses String Quartet \nLouis Moreau Institute
URL:http://christophertrapani.com/wordpresssite/event/visions-revisions-louisiana-premeire/
LOCATION:Dixon Hall\, Tulane University\, New Orleans\, LA
END:VEVENT
BEGIN:VEVENT
DTSTART;TZID=America/New_York:20180218T180000
DTEND;TZID=America/New_York:20180218T200000
DTSTAMP:20260423T205248
CREATED:20180107T160647Z
LAST-MODIFIED:20180107T160647Z
UID:1943-1518976800-1518984000@christophertrapani.com
SUMMARY:Sunflower Suite — GERMAN PREMIERE
DESCRIPTION:
URL:http://christophertrapani.com/wordpresssite/event/sunflower-suite-german-premiere/
LOCATION:Gemeindehaus am Blarerplatz I\, Esslingen\, Germany
END:VEVENT
BEGIN:VEVENT
DTSTART;TZID=America/New_York:20180130T193000
DTEND;TZID=America/New_York:20180130T213000
DTSTAMP:20260423T205248
CREATED:20180124T162357Z
LAST-MODIFIED:20180124T162357Z
UID:1961-1517340600-1517347800@christophertrapani.com
SUMMARY:The Silence of a Falling Star Lights Up a Purple Sky
DESCRIPTION:Marilyn Nonknen\, piano \nComposers Now season opening event
URL:http://christophertrapani.com/wordpresssite/event/silence-falling-star-lights-purple-sky-30-jan/
LOCATION:The Jazz Gallery\, 1160 Broadway\, New York\, NY\, 10001
END:VEVENT
BEGIN:VEVENT
DTSTART;TZID=America/New_York:20180118T190000
DTEND;TZID=America/New_York:20180118T210000
DTSTAMP:20260423T205248
CREATED:20171129T001244Z
LAST-MODIFIED:20171129T001244Z
UID:1922-1516302000-1516309200@christophertrapani.com
SUMMARY:Recession — Boston Premiere
DESCRIPTION:Dinosaur Annex
URL:http://christophertrapani.com/wordpresssite/event/recession-boston-premiere/
LOCATION:Third Life Studio\, 33 Union Square\, Somerville\, MA\, 02143\, United States
END:VEVENT
BEGIN:VEVENT
DTSTART;TZID=America/New_York:20171217T190000
DTEND;TZID=America/New_York:20171217T220000
DTSTAMP:20260423T205248
CREATED:20171205T015258Z
LAST-MODIFIED:20171205T015337Z
UID:1936-1513537200-1513548000@christophertrapani.com
SUMMARY:Alcohol and Algebra — CD Release
DESCRIPTION:Oh Mensch guitar duo \n  \n 
URL:http://christophertrapani.com/wordpresssite/event/alcohol-algebra-cd-release/
LOCATION:Nadine\, Gallaitstraat 80\, Schaarbeek\, 1030\, Belgium
END:VEVENT
BEGIN:VEVENT
DTSTART;TZID=America/New_York:20171215T190000
DTEND;TZID=America/New_York:20171215T203000
DTSTAMP:20260423T205248
CREATED:20171129T000959Z
LAST-MODIFIED:20171207T214159Z
UID:1919-1513364400-1513369800@christophertrapani.com
SUMMARY:The Silence of a Falling Star Lights Up a Purple Sky
DESCRIPTION:Marilyn Nonken\, piano
URL:http://christophertrapani.com/wordpresssite/event/silence-falling-star-lights-purple-sky/
LOCATION:Spectrum NYC\, 70 Flushing Ave\, Brooklyn\, NY\, United States
END:VEVENT
BEGIN:VEVENT
DTSTART;TZID=America/New_York:20171213T200000
DTEND;TZID=America/New_York:20171213T220000
DTSTAMP:20260423T205248
CREATED:20170830T083050Z
LAST-MODIFIED:20170830T083050Z
UID:1823-1513195200-1513202400@christophertrapani.com
SUMMARY:Tesserae
DESCRIPTION:Marco Fusi\, viola d’amore
URL:http://christophertrapani.com/wordpresssite/event/tesserae/
LOCATION:Queen’s University Belfast\, Belfast
END:VEVENT
BEGIN:VEVENT
DTSTART;TZID=America/New_York:20171201T190000
DTEND;TZID=America/New_York:20171201T213000
DTSTAMP:20260423T205248
CREATED:20170828T110054Z
LAST-MODIFIED:20171129T000810Z
UID:1819-1512154800-1512163800@christophertrapani.com
SUMMARY:End Words
DESCRIPTION:Ekmeles + \nalongside new works by Kaija Saariaho and John Cage
URL:http://christophertrapani.com/wordpresssite/event/end-words-december-2017/
LOCATION:DiMenna Center\, 450 W 37th St\, New York
END:VEVENT
BEGIN:VEVENT
DTSTART;TZID=America/New_York:20171121T200000
DTEND;TZID=America/New_York:20171121T220000
DTSTAMP:20260423T205248
CREATED:20170405T125718Z
LAST-MODIFIED:20170616T132832Z
UID:1759-1511294400-1511301600@christophertrapani.com
SUMMARY:Shotgun Shoegaze — UK PREMIERE
DESCRIPTION:“Our Ears Felt Like Canyons” \nZWERM electric guitar quartet \nHuddersfield Contemporary Music Festival\, UK
URL:http://christophertrapani.com/wordpresssite/event/zwerm-huddersfield/
END:VEVENT
BEGIN:VEVENT
DTSTART;TZID=America/New_York:20171118T200000
DTEND;TZID=America/New_York:20171118T200000
DTSTAMP:20260423T205248
CREATED:20170521T224804Z
LAST-MODIFIED:20170521T224843Z
UID:1766-1511035200-1511035200@christophertrapani.com
SUMMARY:PolychROME — UK PREMIERE
DESCRIPTION:Ensemble Modern \nBrad Lubman\, conductor \nHuddersfield Contemporary Music Festival
URL:http://christophertrapani.com/wordpresssite/event/polychrome-huddersfield/
LOCATION:Huddersfield Contemporary Music Festival\, Huddersfield\, United Kingdom
END:VEVENT
BEGIN:VEVENT
DTSTART;TZID=Europe/London:20171117T133000
DTEND;TZID=Europe/London:20171117T153000
DTSTAMP:20260423T205248
CREATED:20171029T112600Z
LAST-MODIFIED:20171029T112600Z
UID:1882-1510925400-1510932600@christophertrapani.com
SUMMARY:hcmf lecture
DESCRIPTION:lecture on recent works at the Huddersfield Contemporary Music Festival
URL:http://christophertrapani.com/wordpresssite/event/cerenem-lecture/
LOCATION:CeReNeM\, Huddersfield\, United Kingdom
END:VEVENT
BEGIN:VEVENT
DTSTART;TZID=America/New_York:20171106T190000
DTEND;TZID=America/New_York:20171106T210000
DTSTAMP:20260423T205248
CREATED:20170828T103239Z
LAST-MODIFIED:20171016T211450Z
UID:1816-1509994800-1510002000@christophertrapani.com
SUMMARY:Longue Durée for voice\, accordion\, and electronics
DESCRIPTION:Angèle Chemin\, soprano \nVincent Lhermet\, accordion \nElectronics realized by Max Bruckert at Grame (Lyon)
URL:http://christophertrapani.com/wordpresssite/event/new-work-voice-accordion-electronics/
LOCATION:CRR de Boulogne-Billancourt\, 22 Rue de la Belle Feuille\, Boulogne-Billancourt\, 92100\, France
END:VEVENT
BEGIN:VEVENT
DTSTART;TZID=America/New_York:20171103T200000
DTEND;TZID=America/New_York:20171103T213000
DTSTAMP:20260423T205248
CREATED:20170828T102906Z
LAST-MODIFIED:20171016T211523Z
UID:1813-1509739200-1509744600@christophertrapani.com
SUMMARY:Longue Durée for voice\, accordion\, and electronics — WORLD PREMIERE
DESCRIPTION:Angèle Chemin\, soprano \nVincent Lhermet\, accordion \nElectronics realized by Max Bruckert at Grame (Lyon)
URL:http://christophertrapani.com/wordpresssite/event/longue-duree/
LOCATION:Théâtre Le Petit Vélo\, Clermont-Ferrand\, France
END:VEVENT
BEGIN:VEVENT
DTSTART;TZID=America/New_York:20171022T200000
DTEND;TZID=America/New_York:20171022T220000
DTSTAMP:20260423T205248
CREATED:20170405T125605Z
LAST-MODIFIED:20170616T132906Z
UID:1756-1508702400-1508709600@christophertrapani.com
SUMMARY:Shotgun Shoegaze — BELGIAN PREMIERE
DESCRIPTION:“Our Ears Felt Like Canyons” \nZWERM electric guitar quartet \nTransit Festival\, Leuven\, Belgium
URL:http://christophertrapani.com/wordpresssite/event/zwerm-leuven/
END:VEVENT
BEGIN:VEVENT
DTSTART;TZID=America/New_York:20171014T193000
DTEND;TZID=America/New_York:20171014T213000
DTSTAMP:20260423T205248
CREATED:20170827T185235Z
LAST-MODIFIED:20171008T172249Z
UID:1808-1508009400-1508016600@christophertrapani.com
SUMMARY:Waterlines — Manhattan premiere
DESCRIPTION:Talea Ensemble: FOLK TUNES \nLucy Dhegrae\, voice \nJim Baker\, conductor
URL:http://christophertrapani.com/wordpresssite/event/waterlines-manhattan-premiere/
LOCATION:DiMenna Center\, 450 W 37th St\, New York
END:VEVENT
BEGIN:VEVENT
DTSTART;TZID=America/New_York:20171001T170000
DTEND;TZID=America/New_York:20171001T170000
DTSTAMP:20260423T205248
CREATED:20170827T185506Z
LAST-MODIFIED:20170827T185506Z
UID:1810-1506877200-1506877200@christophertrapani.com
SUMMARY:Passing Through\, Staying Put
DESCRIPTION:Longleash Piano Trio — “Passage” Album Release Show
URL:http://christophertrapani.com/wordpresssite/event/passing-staying-put/
LOCATION:Le Poisson Rouge\, 158 Bleecker St\, New York\, NY\, 10012\, United States
END:VEVENT
END:VCALENDAR