BEGIN:VCALENDAR
VERSION:2.0
PRODID:-//CHRISTOPHER TRAPANI - ECPv6.15.17.1//NONSGML v1.0//EN
CALSCALE:GREGORIAN
METHOD:PUBLISH
X-ORIGINAL-URL:http://christophertrapani.com/wordpresssite
X-WR-CALDESC:Events for CHRISTOPHER TRAPANI
REFRESH-INTERVAL;VALUE=DURATION:PT1H
X-Robots-Tag:noindex
X-PUBLISHED-TTL:PT1H
BEGIN:VTIMEZONE
TZID:America/New_York
BEGIN:DAYLIGHT
TZOFFSETFROM:-0500
TZOFFSETTO:-0400
TZNAME:EDT
DTSTART:20180311T070000
END:DAYLIGHT
BEGIN:STANDARD
TZOFFSETFROM:-0400
TZOFFSETTO:-0500
TZNAME:EST
DTSTART:20181104T060000
END:STANDARD
BEGIN:DAYLIGHT
TZOFFSETFROM:-0500
TZOFFSETTO:-0400
TZNAME:EDT
DTSTART:20190310T070000
END:DAYLIGHT
BEGIN:STANDARD
TZOFFSETFROM:-0400
TZOFFSETTO:-0500
TZNAME:EST
DTSTART:20191103T060000
END:STANDARD
BEGIN:DAYLIGHT
TZOFFSETFROM:-0500
TZOFFSETTO:-0400
TZNAME:EDT
DTSTART:20200308T070000
END:DAYLIGHT
BEGIN:STANDARD
TZOFFSETFROM:-0400
TZOFFSETTO:-0500
TZNAME:EST
DTSTART:20201101T060000
END:STANDARD
BEGIN:DAYLIGHT
TZOFFSETFROM:-0500
TZOFFSETTO:-0400
TZNAME:EDT
DTSTART:20210314T070000
END:DAYLIGHT
BEGIN:STANDARD
TZOFFSETFROM:-0400
TZOFFSETTO:-0500
TZNAME:EST
DTSTART:20211107T060000
END:STANDARD
BEGIN:DAYLIGHT
TZOFFSETFROM:-0500
TZOFFSETTO:-0400
TZNAME:EDT
DTSTART:20220313T070000
END:DAYLIGHT
BEGIN:STANDARD
TZOFFSETFROM:-0400
TZOFFSETTO:-0500
TZNAME:EST
DTSTART:20221106T060000
END:STANDARD
END:VTIMEZONE
BEGIN:VTIMEZONE
TZID:Europe/Vienna
BEGIN:DAYLIGHT
TZOFFSETFROM:+0100
TZOFFSETTO:+0200
TZNAME:CEST
DTSTART:20190331T010000
END:DAYLIGHT
BEGIN:STANDARD
TZOFFSETFROM:+0200
TZOFFSETTO:+0100
TZNAME:CET
DTSTART:20191027T010000
END:STANDARD
BEGIN:DAYLIGHT
TZOFFSETFROM:+0100
TZOFFSETTO:+0200
TZNAME:CEST
DTSTART:20200329T010000
END:DAYLIGHT
BEGIN:STANDARD
TZOFFSETFROM:+0200
TZOFFSETTO:+0100
TZNAME:CET
DTSTART:20201025T010000
END:STANDARD
BEGIN:DAYLIGHT
TZOFFSETFROM:+0100
TZOFFSETTO:+0200
TZNAME:CEST
DTSTART:20210328T010000
END:DAYLIGHT
BEGIN:STANDARD
TZOFFSETFROM:+0200
TZOFFSETTO:+0100
TZNAME:CET
DTSTART:20211031T010000
END:STANDARD
END:VTIMEZONE
BEGIN:VTIMEZONE
TZID:Europe/Amsterdam
BEGIN:DAYLIGHT
TZOFFSETFROM:+0100
TZOFFSETTO:+0200
TZNAME:CEST
DTSTART:20190331T010000
END:DAYLIGHT
BEGIN:STANDARD
TZOFFSETFROM:+0200
TZOFFSETTO:+0100
TZNAME:CET
DTSTART:20191027T010000
END:STANDARD
BEGIN:DAYLIGHT
TZOFFSETFROM:+0100
TZOFFSETTO:+0200
TZNAME:CEST
DTSTART:20200329T010000
END:DAYLIGHT
BEGIN:STANDARD
TZOFFSETFROM:+0200
TZOFFSETTO:+0100
TZNAME:CET
DTSTART:20201025T010000
END:STANDARD
BEGIN:DAYLIGHT
TZOFFSETFROM:+0100
TZOFFSETTO:+0200
TZNAME:CEST
DTSTART:20210328T010000
END:DAYLIGHT
BEGIN:STANDARD
TZOFFSETFROM:+0200
TZOFFSETTO:+0100
TZNAME:CET
DTSTART:20211031T010000
END:STANDARD
END:VTIMEZONE
BEGIN:VEVENT
DTSTART;TZID=America/New_York:20211117T130000
DTEND;TZID=America/New_York:20211117T143000
DTSTAMP:20260423T172523
CREATED:20211113T061317Z
LAST-MODIFIED:20211113T061317Z
UID:2965-1637154000-1637159400@christophertrapani.com
SUMMARY:Passing Through\, Staying Put
DESCRIPTION:Junction Trio
URL:http://christophertrapani.com/wordpresssite/event/passing-through-staying-put-7/
LOCATION:Kaufman Music Center\, 129 West 67th Street\, New York\, NY\, 10023
END:VEVENT
BEGIN:VEVENT
DTSTART;TZID=America/New_York:20210706T200000
DTEND;TZID=America/New_York:20210706T213000
DTSTAMP:20260423T172523
CREATED:20210531T142714Z
LAST-MODIFIED:20210702T122521Z
UID:2912-1625601600-1625607000@christophertrapani.com
SUMMARY:Two Canons — WORLD PREMIERE
DESCRIPTION:Benjamin Hochman\, piano \nTzlil Meudcan Festival
URL:http://christophertrapani.com/wordpresssite/event/two-canons-premiere/
END:VEVENT
BEGIN:VEVENT
DTSTART;TZID=America/New_York:20210706T150000
DTEND;TZID=America/New_York:20210706T170000
DTSTAMP:20260423T172523
CREATED:20210702T141856Z
LAST-MODIFIED:20210703T092100Z
UID:2927-1625583600-1625590800@christophertrapani.com
SUMMARY:Thine Every Flaw — LIVESTREAM PREMIERE
DESCRIPTION:Min Kwon\, piano \nAmerica/Beautiful Project
URL:http://christophertrapani.com/wordpresssite/event/thine-every-flaw-world-premiere/
END:VEVENT
BEGIN:VEVENT
DTSTART;TZID=Europe/Vienna:20201031T140000
DTEND;TZID=Europe/Vienna:20201031T150000
DTSTAMP:20260423T172523
CREATED:20200911T133356Z
LAST-MODIFIED:20200911T133356Z
UID:2865-1604152800-1604156400@christophertrapani.com
SUMMARY:Passing Through\, Staying Put — AUSTRIAN PREMIERE
DESCRIPTION:Schallfeld Ensemble \nWien Modern
URL:http://christophertrapani.com/wordpresssite/event/passing-through-staying-put-austrian-premiere/
LOCATION:Alte Schmeide Kunstverein\, Schönlaterngasse 9\, Wien\, 1010\, Austria
END:VEVENT
BEGIN:VEVENT
DTSTART;TZID=Europe/Amsterdam:20201004T110000
DTEND;TZID=Europe/Amsterdam:20201004T120000
DTSTAMP:20260423T172523
CREATED:20200911T133002Z
LAST-MODIFIED:20200911T133002Z
UID:2862-1601809200-1601812800@christophertrapani.com
SUMMARY:Lost Time Triptych — EUROPEAN PREMIERE
DESCRIPTION:Anne Veinberg\, piano \nHuygens-Fokker Foundation
URL:http://christophertrapani.com/wordpresssite/event/lost-time-triptych-european-premiere/
LOCATION:Muziekgebouw aan ‘t IJ\, Piet Heinkade 1\, Amsterdam\, 1019 \, Netherlands
END:VEVENT
BEGIN:VEVENT
DTSTART;TZID=America/New_York:20200815T193000
DTEND;TZID=America/New_York:20200815T210000
DTSTAMP:20260423T172523
CREATED:20200407T215104Z
LAST-MODIFIED:20200719T031521Z
UID:2701-1597519800-1597525200@christophertrapani.com
SUMMARY:Convergence Lines — CANCELLED
DESCRIPTION:Talea Ensemble\nGregory Vajda\, conductor \nTime Spans Music Festival
URL:http://christophertrapani.com/wordpresssite/event/convergence-lines-2/
LOCATION:DiMenna Center\, 450 W 37th St\, New York
END:VEVENT
BEGIN:VEVENT
DTSTART;TZID=America/New_York:20200529T193000
DTEND;TZID=America/New_York:20200529T220000
DTSTAMP:20260423T172523
CREATED:20200517T171342Z
LAST-MODIFIED:20200517T171342Z
UID:2709-1590780600-1590789600@christophertrapani.com
SUMMARY:PolychROME - LIVESTREAM
DESCRIPTION:International Ensemble Modern Akademie\nMarc Hajjar\, conductor \nlivestream link forthcoming!
URL:http://christophertrapani.com/wordpresssite/event/polychrome-livestream/
LOCATION:Haus der DEA\, Dachsaal\, Frankfurt am Main\, Germany\, Frankfurt\, Germany
END:VEVENT
BEGIN:VEVENT
DTSTART;TZID=America/New_York:20200401T193000
DTEND;TZID=America/New_York:20200401T210000
DTSTAMP:20260423T172523
CREATED:20200228T023902Z
LAST-MODIFIED:20200321T195013Z
UID:2669-1585769400-1585774800@christophertrapani.com
SUMMARY:PolychROME - CANCELLED!
DESCRIPTION:IEMA – International Ensemble Modern Akademie
URL:http://christophertrapani.com/wordpresssite/event/polychrome/
LOCATION:Hochschule für Musik und Darstellende Kunst\, Kleiner Saal\, Frankfurt\, Germany
END:VEVENT
BEGIN:VEVENT
DTSTART;TZID=America/New_York:20200320T170000
DTEND;TZID=America/New_York:20200320T170000
DTSTAMP:20260423T172523
CREATED:20200228T024118Z
LAST-MODIFIED:20200228T024118Z
UID:2671-1584723600-1584723600@christophertrapani.com
SUMMARY:Two Folksong Distortions
DESCRIPTION:ICTUS Ensemble\nLiquid Room X\nBiennale des Musiques Exploratoires
URL:http://christophertrapani.com/wordpresssite/event/two-folksong-distortions-7/
LOCATION:Le Sucre\, Lyon\, France
END:VEVENT
BEGIN:VEVENT
DTSTART;TZID=America/New_York:20200311T190000
DTEND;TZID=America/New_York:20200311T203000
DTSTAMP:20260423T172523
CREATED:20200301T034924Z
LAST-MODIFIED:20200301T035011Z
UID:2686-1583953200-1583958600@christophertrapani.com
SUMMARY:Târgul - U. S. PREMIERE
DESCRIPTION:Maximilian Haft\, vioara cu goarna\nChristopher Trapani (UTEMS)\, electronics
URL:http://christophertrapani.com/wordpresssite/event/targul-us-premiere/
LOCATION:Jessen Auditorium\, 200 W 21st St\, Austin\, Texas\, 78712
END:VEVENT
BEGIN:VEVENT
DTSTART;TZID=America/New_York:20200309T190000
DTEND;TZID=America/New_York:20200309T190000
DTSTAMP:20260423T172523
CREATED:20200301T034633Z
LAST-MODIFIED:20200301T034643Z
UID:2681-1583780400-1583780400@christophertrapani.com
SUMMARY:Târgul - U. S. PREMIERE
DESCRIPTION:Maximilian Haft\, vioara cu goarna\nChristopher Trapani (UTEMS)\, electronics
URL:http://christophertrapani.com/wordpresssite/event/targul-u-s-premiere/
LOCATION:Lawndale Arts Center\, 4912 Main Street\, Houston\, TX\, 77002
END:VEVENT
BEGIN:VEVENT
DTSTART;TZID=America/New_York:20200219T193000
DTEND;TZID=America/New_York:20200219T213000
DTSTAMP:20260423T172523
CREATED:20190929T231114Z
LAST-MODIFIED:20190930T000450Z
UID:2601-1582140600-1582147800@christophertrapani.com
SUMMARY:Convergence Lines
DESCRIPTION:Ensemble Echappé
URL:http://christophertrapani.com/wordpresssite/event/convergence-lines/
LOCATION:Italian Academy at Columbia University\, 1161 Amsterdam Avenue\, New York\, NY\, 10027\, United States
END:VEVENT
BEGIN:VEVENT
DTSTART;TZID=America/New_York:20200213T190000
DTEND;TZID=America/New_York:20200213T190000
DTSTAMP:20260423T172523
CREATED:20190617T151243Z
LAST-MODIFIED:20190617T151243Z
UID:2567-1581620400-1581620400@christophertrapani.com
SUMMARY:Longue Durée — POLISH PREMIERE
DESCRIPTION:Joanna Freszel – sopran\nRafał Łuc – akordeon\nCezary Duchnowski  – elektronika
URL:http://christophertrapani.com/wordpresssite/event/longue-duree-polish-premiere/
LOCATION:NFM\, Sala Kameralna\, plac Wolności 1\, Wrocław\, Poland
END:VEVENT
BEGIN:VEVENT
DTSTART;TZID=America/New_York:20200209T180000
DTEND;TZID=America/New_York:20200209T190000
DTSTAMP:20260423T172523
CREATED:20190530T044429Z
LAST-MODIFIED:20191123T213641Z
UID:2563-1581271200-1581274800@christophertrapani.com
SUMMARY:Two and Six - WORLD PREMIERE
DESCRIPTION:London Sinfonietta \nCommissioned by Radio France\nFestival Présences
URL:http://christophertrapani.com/wordpresssite/event/presences-2020/
LOCATION:Maison de la Radio – Auditorium\, Paris\, France
END:VEVENT
BEGIN:VEVENT
DTSTART;TZID=America/New_York:20200116T200000
DTEND;TZID=America/New_York:20200116T200000
DTSTAMP:20260423T172523
CREATED:20200111T081634Z
LAST-MODIFIED:20200111T081634Z
UID:2653-1579204800-1579204800@christophertrapani.com
SUMMARY:Passing Through\, Staying Put
DESCRIPTION:Miranda Cuckson\, violin\nJeffrey Ziegler\, cello\nBlair McMillen\, piano
URL:http://christophertrapani.com/wordpresssite/event/passing-through-staying-put-5/
LOCATION:Shepherd School of Music\, Houston\, TX
END:VEVENT
BEGIN:VEVENT
DTSTART;TZID=America/New_York:20200111T193000
DTEND;TZID=America/New_York:20200111T210000
DTSTAMP:20260423T172523
CREATED:20191118T182742Z
LAST-MODIFIED:20191118T182742Z
UID:2608-1578771000-1578776400@christophertrapani.com
SUMMARY:End Words — Ekmeles CD release!
DESCRIPTION:Ekmeles celebrates the release of their first album A howl\, that was also a prayer\, with a concert at the DiMenna Center’s Cary Hall. Featuring two large-scale microtonal commissions written for the group\, and one adopted favorite\, the album showcases Ekmeles’s focus on expanding the limits of tuning and technique in ensemble singing. Every ticket comes with a free copy of the album. \nTaylor Brook – Motorman Sextet (2013) Ekmeles commission\nErin Gee – Three Scenes from SLEEP (2008)\nChristopher Trapani – End Words (2017) Ekmeles commission
URL:http://christophertrapani.com/wordpresssite/event/end-words-ekmeles-cd-release/
LOCATION:DiMenna Center\, 450 W 37th St\, New York
END:VEVENT
BEGIN:VEVENT
DTSTART;TZID=America/New_York:20191130T200000
DTEND;TZID=America/New_York:20191130T213000
DTSTAMP:20260423T172523
CREATED:20190929T210331Z
LAST-MODIFIED:20190929T210349Z
UID:2598-1575144000-1575149400@christophertrapani.com
SUMMARY:Leaving Lute
DESCRIPTION:New Gâtes Trio
URL:http://christophertrapani.com/wordpresssite/event/leaving-lute-3/
LOCATION:L’Atelier du Plateau\, 5\, rue du Plateau\, Paris\, 75019\, France
END:VEVENT
BEGIN:VEVENT
DTSTART;TZID=America/New_York:20191105T201500
DTEND;TZID=America/New_York:20191105T220000
DTSTAMP:20260423T172523
CREATED:20190921T164232Z
LAST-MODIFIED:20190921T164308Z
UID:2593-1572984900-1572991200@christophertrapani.com
SUMMARY:Convergence Lines — Austrian Premiere
DESCRIPTION:Tiroler Ensemble für Neue Musik \nHansjörg Sofka\, conductor
URL:http://christophertrapani.com/wordpresssite/event/convergence-lines-austrian-premiere/
LOCATION:ORF Studio 3\, Innsbruck\, 6020\, Austria
END:VEVENT
BEGIN:VEVENT
DTSTART;TZID=America/New_York:20191028T193000
DTEND;TZID=America/New_York:20191028T210000
DTSTAMP:20260423T172523
CREATED:20190730T002008Z
LAST-MODIFIED:20190730T002008Z
UID:2575-1572291000-1572296400@christophertrapani.com
SUMMARY:Sparrow Episodes / Difficult Places
DESCRIPTION:University of Texas at Austin New Music Ensemble
URL:http://christophertrapani.com/wordpresssite/event/sparrow-episodes-difficult-places/
LOCATION:Bates Recital Hall\, 2406 Robert Dedman Dr\, Austin\, TX\, 78712
END:VEVENT
BEGIN:VEVENT
DTSTART;TZID=America/New_York:20191015T200000
DTEND;TZID=America/New_York:20191015T200000
DTSTAMP:20260423T172523
CREATED:20190730T004023Z
LAST-MODIFIED:20190730T004023Z
UID:2578-1571169600-1571169600@christophertrapani.com
SUMMARY:New Work for vioara cu goarna and electronics
DESCRIPTION:Max Haft\, vioara cu goarna \nEnsemble Contrechamps
URL:http://christophertrapani.com/wordpresssite/event/new-work-for-vioara-cu-goarna-and-electronics/
LOCATION:Studio Ernest-Ansermet\, Passage de la Radio 2\, Geneva\, 1205\, Switzerland
END:VEVENT
BEGIN:VEVENT
DTSTART;TZID=America/New_York:20190926T183000
DTEND;TZID=America/New_York:20190926T193000
DTSTAMP:20260423T172523
CREATED:20190530T043919Z
LAST-MODIFIED:20190530T043919Z
UID:2560-1569522600-1569526200@christophertrapani.com
SUMMARY:Shotgun Shoegaze
DESCRIPTION:ZWERM \nOur Ears Felt Like Canyons
URL:http://christophertrapani.com/wordpresssite/event/shotgun-shoegaze-2/
LOCATION:France 3 Grand Est\, Strasbourg\, France
END:VEVENT
BEGIN:VEVENT
DTSTART;TZID=America/New_York:20190925T183000
DTEND;TZID=America/New_York:20190925T193000
DTSTAMP:20260423T172523
CREATED:20190530T043811Z
LAST-MODIFIED:20190530T043811Z
UID:2557-1569436200-1569439800@christophertrapani.com
SUMMARY:Shotgun Shoegaze
DESCRIPTION:ZWERM \nOur Ears Felt Like Canyons
URL:http://christophertrapani.com/wordpresssite/event/shotgun-shoegaze/
LOCATION:France 3 Grand Est\, Strasbourg\, France
END:VEVENT
BEGIN:VEVENT
DTSTART;TZID=America/New_York:20190921T203000
DTEND;TZID=America/New_York:20190921T233000
DTSTAMP:20260423T172523
CREATED:20190530T043632Z
LAST-MODIFIED:20190530T043632Z
UID:2555-1569097800-1569108600@christophertrapani.com
SUMMARY:Two Folksong Distortions
DESCRIPTION:Liesa Van der Aa – voice\, violin\, effects\nTom Pauwels – guitars\, electronics \nICTUS  \nMy greatest hits (Liquid Room)
URL:http://christophertrapani.com/wordpresssite/event/two-folksong-distortions-5/
LOCATION:Les Halles – Citadelle\, Strasbourg\, France
END:VEVENT
BEGIN:VEVENT
DTSTART;TZID=America/New_York:20190920T203000
DTEND;TZID=America/New_York:20190920T233000
DTSTAMP:20260423T172523
CREATED:20190530T043508Z
LAST-MODIFIED:20190530T043508Z
UID:2549-1569011400-1569022200@christophertrapani.com
SUMMARY:Two Folksong Distortions
DESCRIPTION:Liesa Van der Aa – voice\, violin\, effects\nTom Pauwels – guitars\, electronics \nICTUS  \nMy greatest hits (Liquid Room)
URL:http://christophertrapani.com/wordpresssite/event/two-folksong-distortions-4/
LOCATION:Les Halles – Citadelle\, Strasbourg\, France
END:VEVENT
BEGIN:VEVENT
DTSTART;TZID=America/New_York:20190708T160000
DTEND;TZID=America/New_York:20190708T170000
DTSTAMP:20260423T172523
CREATED:20190706T090819Z
LAST-MODIFIED:20190706T090819Z
UID:2570-1562601600-1562605200@christophertrapani.com
SUMMARY:Passing Through\, Staying Put
DESCRIPTION:JCT Trio
URL:http://christophertrapani.com/wordpresssite/event/passing-through-staying-put-4/
END:VEVENT
BEGIN:VEVENT
DTSTART;TZID=America/New_York:20190630T170000
DTEND;TZID=America/New_York:20190630T170000
DTSTAMP:20260423T172523
CREATED:20190530T043049Z
LAST-MODIFIED:20190530T043049Z
UID:2545-1561914000-1561914000@christophertrapani.com
SUMMARY:Passing Through\, Staying Put
DESCRIPTION:JCT Trio \nRockport Chamber Music Festival
URL:http://christophertrapani.com/wordpresssite/event/passing-through-staying-put-3/
END:VEVENT
BEGIN:VEVENT
DTSTART;TZID=America/New_York:20190611T190000
DTEND;TZID=America/New_York:20190611T190000
DTSTAMP:20260423T172523
CREATED:20190404T190301Z
LAST-MODIFIED:20190404T190301Z
UID:2474-1560279600-1560279600@christophertrapani.com
SUMMARY:Tesserae
DESCRIPTION:Marco Fusi\, viola d’amore
URL:http://christophertrapani.com/wordpresssite/event/tesserae-4/
LOCATION:Reid Hall (Columbia Global Center Paris)\, 4 Rue de Chevreuse\, Paris\, 75006\, France
END:VEVENT
BEGIN:VEVENT
DTSTART;TZID=America/New_York:20190512T170000
DTEND;TZID=America/New_York:20190512T190000
DTSTAMP:20260423T172523
CREATED:20180731T212347Z
LAST-MODIFIED:20190404T125845Z
UID:2282-1557680400-1557687600@christophertrapani.com
SUMMARY:Longue Durée
DESCRIPTION:Vincent Lhermet\, accordion / Angèle Chemin\, voice\nMax Bruckert\, réalisateur en informatique musicale \nwith Françoise Rivalland\, cymbalum\non a program with works by Mathieu Bonilla\, Sébastien Béranger\, and Georges Aperghis \nFestival Les Musiques
URL:http://christophertrapani.com/wordpresssite/event/longue-duree-marseille/
LOCATION:Salle Musicatreize\, 53 Rue Grignan\, Marseille\, 13006\, France
END:VEVENT
BEGIN:VEVENT
DTSTART;TZID=America/New_York:20190504T190000
DTEND;TZID=America/New_York:20190504T210000
DTSTAMP:20260423T172523
CREATED:20180825T131436Z
LAST-MODIFIED:20180825T132225Z
UID:2413-1556996400-1557003600@christophertrapani.com
SUMMARY:Isolario: Book of Known Islands — Book II (WORLD PREMIERE)
DESCRIPTION:also Isolario: Book of Known Islands — Book I \nSpektral Quartet \nElectronics in collaboration with Max Bruckert\, GRAME
URL:http://christophertrapani.com/wordpresssite/event/isolario-book-of-known-islands-book-ii-world-premiere/
LOCATION:University of Chicago International House\, Chicago\, IL
END:VEVENT
BEGIN:VEVENT
DTSTART;TZID=America/New_York:20190429T193000
DTEND;TZID=America/New_York:20190429T210000
DTSTAMP:20260423T172523
CREATED:20190404T190127Z
LAST-MODIFIED:20190404T190127Z
UID:2472-1556566200-1556571600@christophertrapani.com
SUMMARY:Lost Time Triptych
DESCRIPTION:Marilyn Nonken\, piano scordatura \nArgento Chamber Ensemble
URL:http://christophertrapani.com/wordpresssite/event/lost-time-triptych-argento/
LOCATION:Saint Peter’s Church\, 619 Lexington Ave\, New York\, 11102
END:VEVENT
END:VCALENDAR