BEGIN:VCALENDAR
VERSION:2.0
PRODID:-//CHRISTOPHER TRAPANI - ECPv6.15.17.1//NONSGML v1.0//EN
CALSCALE:GREGORIAN
METHOD:PUBLISH
X-WR-CALNAME:CHRISTOPHER TRAPANI
X-ORIGINAL-URL:http://christophertrapani.com/wordpresssite
X-WR-CALDESC:Events for CHRISTOPHER TRAPANI
REFRESH-INTERVAL;VALUE=DURATION:PT1H
X-Robots-Tag:noindex
X-PUBLISHED-TTL:PT1H
BEGIN:VTIMEZONE
TZID:America/New_York
BEGIN:DAYLIGHT
TZOFFSETFROM:-0500
TZOFFSETTO:-0400
TZNAME:EDT
DTSTART:20190310T070000
END:DAYLIGHT
BEGIN:STANDARD
TZOFFSETFROM:-0400
TZOFFSETTO:-0500
TZNAME:EST
DTSTART:20191103T060000
END:STANDARD
BEGIN:DAYLIGHT
TZOFFSETFROM:-0500
TZOFFSETTO:-0400
TZNAME:EDT
DTSTART:20200308T070000
END:DAYLIGHT
BEGIN:STANDARD
TZOFFSETFROM:-0400
TZOFFSETTO:-0500
TZNAME:EST
DTSTART:20201101T060000
END:STANDARD
BEGIN:DAYLIGHT
TZOFFSETFROM:-0500
TZOFFSETTO:-0400
TZNAME:EDT
DTSTART:20210314T070000
END:DAYLIGHT
BEGIN:STANDARD
TZOFFSETFROM:-0400
TZOFFSETTO:-0500
TZNAME:EST
DTSTART:20211107T060000
END:STANDARD
BEGIN:DAYLIGHT
TZOFFSETFROM:-0500
TZOFFSETTO:-0400
TZNAME:EDT
DTSTART:20220313T070000
END:DAYLIGHT
BEGIN:STANDARD
TZOFFSETFROM:-0400
TZOFFSETTO:-0500
TZNAME:EST
DTSTART:20221106T060000
END:STANDARD
BEGIN:DAYLIGHT
TZOFFSETFROM:-0500
TZOFFSETTO:-0400
TZNAME:EDT
DTSTART:20230312T070000
END:DAYLIGHT
BEGIN:STANDARD
TZOFFSETFROM:-0400
TZOFFSETTO:-0500
TZNAME:EST
DTSTART:20231105T060000
END:STANDARD
BEGIN:DAYLIGHT
TZOFFSETFROM:-0500
TZOFFSETTO:-0400
TZNAME:EDT
DTSTART:20240310T070000
END:DAYLIGHT
BEGIN:STANDARD
TZOFFSETFROM:-0400
TZOFFSETTO:-0500
TZNAME:EST
DTSTART:20241103T060000
END:STANDARD
END:VTIMEZONE
BEGIN:VTIMEZONE
TZID:Europe/Amsterdam
BEGIN:DAYLIGHT
TZOFFSETFROM:+0100
TZOFFSETTO:+0200
TZNAME:CEST
DTSTART:20190331T010000
END:DAYLIGHT
BEGIN:STANDARD
TZOFFSETFROM:+0200
TZOFFSETTO:+0100
TZNAME:CET
DTSTART:20191027T010000
END:STANDARD
BEGIN:DAYLIGHT
TZOFFSETFROM:+0100
TZOFFSETTO:+0200
TZNAME:CEST
DTSTART:20200329T010000
END:DAYLIGHT
BEGIN:STANDARD
TZOFFSETFROM:+0200
TZOFFSETTO:+0100
TZNAME:CET
DTSTART:20201025T010000
END:STANDARD
BEGIN:DAYLIGHT
TZOFFSETFROM:+0100
TZOFFSETTO:+0200
TZNAME:CEST
DTSTART:20210328T010000
END:DAYLIGHT
BEGIN:STANDARD
TZOFFSETFROM:+0200
TZOFFSETTO:+0100
TZNAME:CET
DTSTART:20211031T010000
END:STANDARD
BEGIN:DAYLIGHT
TZOFFSETFROM:+0100
TZOFFSETTO:+0200
TZNAME:CEST
DTSTART:20220327T010000
END:DAYLIGHT
BEGIN:STANDARD
TZOFFSETFROM:+0200
TZOFFSETTO:+0100
TZNAME:CET
DTSTART:20221030T010000
END:STANDARD
END:VTIMEZONE
BEGIN:VTIMEZONE
TZID:Europe/Vienna
BEGIN:DAYLIGHT
TZOFFSETFROM:+0100
TZOFFSETTO:+0200
TZNAME:CEST
DTSTART:20190331T010000
END:DAYLIGHT
BEGIN:STANDARD
TZOFFSETFROM:+0200
TZOFFSETTO:+0100
TZNAME:CET
DTSTART:20191027T010000
END:STANDARD
BEGIN:DAYLIGHT
TZOFFSETFROM:+0100
TZOFFSETTO:+0200
TZNAME:CEST
DTSTART:20200329T010000
END:DAYLIGHT
BEGIN:STANDARD
TZOFFSETFROM:+0200
TZOFFSETTO:+0100
TZNAME:CET
DTSTART:20201025T010000
END:STANDARD
BEGIN:DAYLIGHT
TZOFFSETFROM:+0100
TZOFFSETTO:+0200
TZNAME:CEST
DTSTART:20210328T010000
END:DAYLIGHT
BEGIN:STANDARD
TZOFFSETFROM:+0200
TZOFFSETTO:+0100
TZNAME:CET
DTSTART:20211031T010000
END:STANDARD
END:VTIMEZONE
BEGIN:VEVENT
DTSTART;TZID=America/New_York:20230113T200000
DTEND;TZID=America/New_York:20230113T200000
DTSTAMP:20260423T155007
CREATED:20220905T225800Z
LAST-MODIFIED:20220905T225800Z
UID:3042-1673640000-1673640000@christophertrapani.com
SUMMARY:Noise Uprising — WORLD PREMIERE
DESCRIPTION:Sofia Jernberg\, voice\nSophia Burgos\, voice\nZWERM electric guitar quartet \nsupported by the Ernst von Siemens Foundation
URL:http://christophertrapani.com/wordpresssite/event/noise-uprising-world-premiere/
LOCATION:de Singel\, Desguinlei 25.B\, Antwerp\, 2018\, Belgium
END:VEVENT
BEGIN:VEVENT
DTSTART;TZID=America/New_York:20221102T170000
DTEND;TZID=America/New_York:20221102T170000
DTSTAMP:20260423T155007
CREATED:20220905T225614Z
LAST-MODIFIED:20220905T225614Z
UID:3040-1667408400-1667408400@christophertrapani.com
SUMMARY:Half of Me is Ocean\, Half of Me is Sky — LOUISIANA PREMIERE
DESCRIPTION:Members of the Louisiana Philharmonic Orchestra \nMusic at the Museum: New Orleans Jazz Market
URL:http://christophertrapani.com/wordpresssite/event/half-of-me-is-ocean-half-of-me-is-sky-louisiana-premiere/
LOCATION:New Mexico
END:VEVENT
BEGIN:VEVENT
DTSTART;TZID=America/New_York:20221003T190000
DTEND;TZID=America/New_York:20221003T190000
DTSTAMP:20260423T155007
CREATED:20220905T225413Z
LAST-MODIFIED:20220905T225635Z
UID:3038-1664823600-1664823600@christophertrapani.com
SUMMARY:Horizontal Drift — US PREMIERE
DESCRIPTION:Dan Lippel\, quarter-tone guitar \nIRCAM Hors les Murs / NYC
URL:http://christophertrapani.com/wordpresssite/event/horizontal-drift-us-premiere/
LOCATION:New Mexico
END:VEVENT
BEGIN:VEVENT
DTSTART;TZID=America/New_York:20220911T140000
DTEND;TZID=America/New_York:20220911T170000
DTSTAMP:20260423T155007
CREATED:20220905T225335Z
LAST-MODIFIED:20220905T225340Z
UID:3036-1662904800-1662915600@christophertrapani.com
SUMMARY:Rumba Ingombra
DESCRIPTION:Orkest de ereprijs \nGregory Charette\, conductor \nGaudeamus Muziekweek
URL:http://christophertrapani.com/wordpresssite/event/rumba-ingombra-3/
LOCATION:TivoliVredenburg\, Vredenburgkade 11\, Utrecht\, WC\, 3511\, Netherlands
END:VEVENT
BEGIN:VEVENT
DTSTART;TZID=America/New_York:20220804T200000
DTEND;TZID=America/New_York:20220804T220000
DTSTAMP:20260423T155007
CREATED:20220201T154651Z
LAST-MODIFIED:20220201T154730Z
UID:2970-1659643200-1659650400@christophertrapani.com
SUMMARY:Waterlines
DESCRIPTION:Tony Arnold\, voice / Festival of Contemporary Music / Tanglewood
URL:http://christophertrapani.com/wordpresssite/event/waterlines/
LOCATION:Seiji Ozawa Hall\, Tanglewood Music Center\, Lenox\, MA\, 01240
END:VEVENT
BEGIN:VEVENT
DTSTART;TZID=America/New_York:20220629T180000
DTEND;TZID=America/New_York:20220629T180000
DTSTAMP:20260423T155007
CREATED:20220308T012145Z
LAST-MODIFIED:20220308T012434Z
UID:2990-1656525600-1656525600@christophertrapani.com
SUMMARY:Unfeeling — WORLD PREMIERE
DESCRIPTION:Klangforum Wien / Bas Wiegers\, conductor
URL:http://christophertrapani.com/wordpresssite/event/unfeeling-world-premiere/
LOCATION:Wiener Konzerthaus\, Lothringerstraße 20\, Wien\, A-1030\, Austria
END:VEVENT
BEGIN:VEVENT
DTSTART;TZID=America/New_York:20220528T200000
DTEND;TZID=America/New_York:20220528T200000
DTSTAMP:20260423T155007
CREATED:20220511T032620Z
LAST-MODIFIED:20220511T032631Z
UID:3006-1653768000-1653768000@christophertrapani.com
SUMMARY:Rumba Ingombra (Encumbered Rumba)
DESCRIPTION:Orkest de Ereprijs / Gregory Charette\, conductor
URL:http://christophertrapani.com/wordpresssite/event/rumba-ingombra-2/
LOCATION:Orgelpark\, Amsterdam
END:VEVENT
BEGIN:VEVENT
DTSTART;TZID=America/New_York:20220520T193000
DTEND;TZID=America/New_York:20220520T213000
DTSTAMP:20260423T155007
CREATED:20210930T031022Z
LAST-MODIFIED:20220502T162249Z
UID:2951-1653075000-1653082200@christophertrapani.com
SUMMARY:no window without a wall — WORLD PREMIERE
DESCRIPTION:Grossman Ensemble / James Baker\, conductor \nFromm Foundation Commission
URL:http://christophertrapani.com/wordpresssite/event/no-window-premiere/
LOCATION:Logan Center Performance Hall\, Chicago\, IL\, United States
END:VEVENT
BEGIN:VEVENT
DTSTART;TZID=America/New_York:20220514T210000
DTEND;TZID=America/New_York:20220514T210000
DTSTAMP:20260423T155007
CREATED:20220511T032421Z
LAST-MODIFIED:20220511T032854Z
UID:3003-1652562000-1652562000@christophertrapani.com
SUMMARY:Two Folksong Distortions - CATALAN PREMIERE
DESCRIPTION:Liesa Van der Aa / Tom Pauwels
URL:http://christophertrapani.com/wordpresssite/event/two-folksong-distortions-catalan-premiere/
LOCATION:L’Auditori Barcelona
END:VEVENT
BEGIN:VEVENT
DTSTART;TZID=America/New_York:20220419T193000
DTEND;TZID=America/New_York:20220419T200000
DTSTAMP:20260423T155007
CREATED:20220308T012059Z
LAST-MODIFIED:20220308T012059Z
UID:2987-1650396600-1650398400@christophertrapani.com
SUMMARY:Tesserae — MIDWESTERN PREMIERE
DESCRIPTION:Marco Fusi\, viola d’amore
URL:http://christophertrapani.com/wordpresssite/event/tesserae-midwestern-premiere/
LOCATION:University of Iowa\, 93 East Burlington Street\, Iowa City\, IA\, 52240
END:VEVENT
BEGIN:VEVENT
DTSTART;TZID=America/New_York:20220415T193000
DTEND;TZID=America/New_York:20220415T210000
DTSTAMP:20260423T155007
CREATED:20220308T011700Z
LAST-MODIFIED:20220401T213029Z
UID:2983-1650051000-1650056400@christophertrapani.com
SUMMARY:Tesserae — WEST COAST PREMIERE
DESCRIPTION:Marco Fusi\, viola d’amore
URL:http://christophertrapani.com/wordpresssite/event/tesserae-west-coast-premiere/
LOCATION:New Mexico
END:VEVENT
BEGIN:VEVENT
DTSTART;TZID=America/New_York:20220327T200000
DTEND;TZID=America/New_York:20220327T200000
DTSTAMP:20260423T155007
CREATED:20220204T114817Z
LAST-MODIFIED:20220204T114817Z
UID:2978-1648411200-1648411200@christophertrapani.com
SUMMARY:Four Canons (partial WORLD PREMIERE)
DESCRIPTION:Benjamin Hochman\, piano
URL:http://christophertrapani.com/wordpresssite/event/four-canons-partial-world-premiere/
LOCATION:Salon Christophori\, Uferhallen\, Uferstr.8\, Berlin\, 13357\, Germany
END:VEVENT
BEGIN:VEVENT
DTSTART;TZID=America/New_York:20220312T213000
DTEND;TZID=America/New_York:20220312T213000
DTSTAMP:20260423T155007
CREATED:20220308T012336Z
LAST-MODIFIED:20220308T012336Z
UID:2992-1647120600-1647120600@christophertrapani.com
SUMMARY:Holding Patterns
DESCRIPTION:Yaron Deutsch\, electric guitar / Uli Fussenegger\, bass
URL:http://christophertrapani.com/wordpresssite/event/holding-patterns/
LOCATION:Studio Annette\, Shvil Hameretz 2\, Tel Aviv\, Israel
END:VEVENT
BEGIN:VEVENT
DTSTART;TZID=America/New_York:20220227T150000
DTEND;TZID=America/New_York:20220227T170000
DTSTAMP:20260423T155007
CREATED:20220204T114523Z
LAST-MODIFIED:20220204T114523Z
UID:2975-1645974000-1645981200@christophertrapani.com
SUMMARY:Passing Through\, Staying Put
DESCRIPTION:Junction Trio
URL:http://christophertrapani.com/wordpresssite/event/passing-through-staying-put-8/
LOCATION:San Francisco State University\, Knuth Hall
END:VEVENT
BEGIN:VEVENT
DTSTART;TZID=America/New_York:20220213T173000
DTEND;TZID=America/New_York:20220213T193000
DTSTAMP:20260423T155007
CREATED:20211107T232318Z
LAST-MODIFIED:20211113T061403Z
UID:2961-1644773400-1644780600@christophertrapani.com
SUMMARY:Passing Through\, Staying Put
DESCRIPTION:Junction Trio
URL:http://christophertrapani.com/wordpresssite/event/passing-through-staying-put-6/
LOCATION:Shriver Hall\, 3400 N. Charles St\, Shriver Hall\, Ste 14\, Baltimore\, MD\, 21218-2698
END:VEVENT
BEGIN:VEVENT
DTSTART;TZID=America/New_York:20220206T170000
DTEND;TZID=America/New_York:20220206T170000
DTSTAMP:20260423T155007
CREATED:20211022T163213Z
LAST-MODIFIED:20220118T235604Z
UID:2958-1644166800-1644166800@christophertrapani.com
SUMMARY:Holding Patterns — World Premiere
DESCRIPTION:Eclat Festival \nYaron Deutsch\, electric guitar / Uli Fussenegger\, bass / Christopher Trapani\, electronics
URL:http://christophertrapani.com/wordpresssite/event/holding-patterns-world-premiere/
LOCATION:Theaterhaus\, Stuttgart\, Germany
END:VEVENT
BEGIN:VEVENT
DTSTART;TZID=America/New_York:20211209T200000
DTEND;TZID=America/New_York:20211209T213000
DTSTAMP:20260423T155007
CREATED:20210930T030646Z
LAST-MODIFIED:20211107T232114Z
UID:2945-1639080000-1639085400@christophertrapani.com
SUMMARY:Honey Behind the Sun — WORLD PREMIERE
DESCRIPTION:Ensemble Modern
URL:http://christophertrapani.com/wordpresssite/event/honey-sun-premiere/
LOCATION:Haus der DEA / Dachsaal\, Frankfurt am Main\, Germany
END:VEVENT
BEGIN:VEVENT
DTSTART;TZID=America/New_York:20211203T180000
DTEND;TZID=America/New_York:20211203T220000
DTSTAMP:20260423T155007
CREATED:20210525T125153Z
LAST-MODIFIED:20210930T031149Z
UID:2905-1638554400-1638568800@christophertrapani.com
SUMMARY:Unfeeling — WORLD PREMIERE
DESCRIPTION:Klangforum Wien / Bas Wiegers\, conductor
URL:http://christophertrapani.com/wordpresssite/event/klangforum-dec3/
LOCATION:Wiener Konzerthaus\, Lothringerstraße 20\, Wien\, A-1030\, Austria
END:VEVENT
BEGIN:VEVENT
DTSTART;TZID=America/New_York:20211127T200000
DTEND;TZID=America/New_York:20211127T220000
DTSTAMP:20260423T155007
CREATED:20210930T030425Z
LAST-MODIFIED:20210930T031112Z
UID:2940-1638043200-1638050400@christophertrapani.com
SUMMARY:Rumba Ingombra
DESCRIPTION:orkest de ereprijs / Gregory Charette\, conductor
URL:http://christophertrapani.com/wordpresssite/event/rumba-ingombra/
LOCATION:Gigant\, Nieuwstraat 377\, Apeldoorn\, 7311 BR\, Netherlands
END:VEVENT
BEGIN:VEVENT
DTSTART;TZID=Europe/Amsterdam:20211124T200000
DTEND;TZID=Europe/Amsterdam:20211124T213000
DTSTAMP:20260423T155007
CREATED:20210930T030102Z
LAST-MODIFIED:20210930T031126Z
UID:2934-1637784000-1637789400@christophertrapani.com
SUMMARY:Rumba Ingombra — WORLD PREMIERE
DESCRIPTION:orkest de ereprijs / Gregory Charette\, conductor
URL:http://christophertrapani.com/wordpresssite/event/rumba-ingombra-wp/
LOCATION:Musis\, Velperbinnensingel 15\, Arnhem\, 6811 BP\, Netherlands
END:VEVENT
BEGIN:VEVENT
DTSTART;TZID=America/New_York:20211117T130000
DTEND;TZID=America/New_York:20211117T143000
DTSTAMP:20260423T155007
CREATED:20211113T061317Z
LAST-MODIFIED:20211113T061317Z
UID:2965-1637154000-1637159400@christophertrapani.com
SUMMARY:Passing Through\, Staying Put
DESCRIPTION:Junction Trio
URL:http://christophertrapani.com/wordpresssite/event/passing-through-staying-put-7/
LOCATION:Kaufman Music Center\, 129 West 67th Street\, New York\, NY\, 10023
END:VEVENT
BEGIN:VEVENT
DTSTART;TZID=America/New_York:20210706T200000
DTEND;TZID=America/New_York:20210706T213000
DTSTAMP:20260423T155007
CREATED:20210531T142714Z
LAST-MODIFIED:20210702T122521Z
UID:2912-1625601600-1625607000@christophertrapani.com
SUMMARY:Two Canons — WORLD PREMIERE
DESCRIPTION:Benjamin Hochman\, piano \nTzlil Meudcan Festival
URL:http://christophertrapani.com/wordpresssite/event/two-canons-premiere/
LOCATION:New Mexico
END:VEVENT
BEGIN:VEVENT
DTSTART;TZID=America/New_York:20210706T150000
DTEND;TZID=America/New_York:20210706T170000
DTSTAMP:20260423T155007
CREATED:20210702T141856Z
LAST-MODIFIED:20210703T092100Z
UID:2927-1625583600-1625590800@christophertrapani.com
SUMMARY:Thine Every Flaw — LIVESTREAM PREMIERE
DESCRIPTION:Min Kwon\, piano \nAmerica/Beautiful Project
URL:http://christophertrapani.com/wordpresssite/event/thine-every-flaw-world-premiere/
LOCATION:New Mexico
END:VEVENT
BEGIN:VEVENT
DTSTART;TZID=Europe/Vienna:20201031T140000
DTEND;TZID=Europe/Vienna:20201031T150000
DTSTAMP:20260423T155007
CREATED:20200911T133356Z
LAST-MODIFIED:20200911T133356Z
UID:2865-1604152800-1604156400@christophertrapani.com
SUMMARY:Passing Through\, Staying Put — AUSTRIAN PREMIERE
DESCRIPTION:Schallfeld Ensemble \nWien Modern
URL:http://christophertrapani.com/wordpresssite/event/passing-through-staying-put-austrian-premiere/
LOCATION:Alte Schmeide Kunstverein\, Schönlaterngasse 9\, Wien\, 1010\, Austria
END:VEVENT
BEGIN:VEVENT
DTSTART;TZID=Europe/Amsterdam:20201004T110000
DTEND;TZID=Europe/Amsterdam:20201004T120000
DTSTAMP:20260423T155007
CREATED:20200911T133002Z
LAST-MODIFIED:20200911T133002Z
UID:2862-1601809200-1601812800@christophertrapani.com
SUMMARY:Lost Time Triptych — EUROPEAN PREMIERE
DESCRIPTION:Anne Veinberg\, piano \nHuygens-Fokker Foundation
URL:http://christophertrapani.com/wordpresssite/event/lost-time-triptych-european-premiere/
LOCATION:Muziekgebouw aan ‘t IJ\, Piet Heinkade 1\, Amsterdam\, 1019 \, Netherlands
END:VEVENT
BEGIN:VEVENT
DTSTART;TZID=America/New_York:20200815T193000
DTEND;TZID=America/New_York:20200815T210000
DTSTAMP:20260423T155007
CREATED:20200407T215104Z
LAST-MODIFIED:20200719T031521Z
UID:2701-1597519800-1597525200@christophertrapani.com
SUMMARY:Convergence Lines — CANCELLED
DESCRIPTION:Talea Ensemble\nGregory Vajda\, conductor \nTime Spans Music Festival
URL:http://christophertrapani.com/wordpresssite/event/convergence-lines-2/
LOCATION:DiMenna Center\, 450 W 37th St\, New York
END:VEVENT
BEGIN:VEVENT
DTSTART;TZID=America/New_York:20200529T193000
DTEND;TZID=America/New_York:20200529T220000
DTSTAMP:20260423T155007
CREATED:20200517T171342Z
LAST-MODIFIED:20200517T171342Z
UID:2709-1590780600-1590789600@christophertrapani.com
SUMMARY:PolychROME - LIVESTREAM
DESCRIPTION:International Ensemble Modern Akademie\nMarc Hajjar\, conductor \nlivestream link forthcoming!
URL:http://christophertrapani.com/wordpresssite/event/polychrome-livestream/
LOCATION:Haus der DEA\, Dachsaal\, Frankfurt am Main\, Germany\, Frankfurt\, Germany
END:VEVENT
BEGIN:VEVENT
DTSTART;TZID=America/New_York:20200401T193000
DTEND;TZID=America/New_York:20200401T210000
DTSTAMP:20260423T155007
CREATED:20200228T023902Z
LAST-MODIFIED:20200321T195013Z
UID:2669-1585769400-1585774800@christophertrapani.com
SUMMARY:PolychROME - CANCELLED!
DESCRIPTION:IEMA – International Ensemble Modern Akademie
URL:http://christophertrapani.com/wordpresssite/event/polychrome/
LOCATION:Hochschule für Musik und Darstellende Kunst\, Kleiner Saal\, Frankfurt\, Germany
END:VEVENT
BEGIN:VEVENT
DTSTART;TZID=America/New_York:20200320T170000
DTEND;TZID=America/New_York:20200320T170000
DTSTAMP:20260423T155007
CREATED:20200228T024118Z
LAST-MODIFIED:20200228T024118Z
UID:2671-1584723600-1584723600@christophertrapani.com
SUMMARY:Two Folksong Distortions
DESCRIPTION:ICTUS Ensemble\nLiquid Room X\nBiennale des Musiques Exploratoires
URL:http://christophertrapani.com/wordpresssite/event/two-folksong-distortions-7/
LOCATION:Le Sucre\, Lyon\, France
END:VEVENT
BEGIN:VEVENT
DTSTART;TZID=America/New_York:20200311T190000
DTEND;TZID=America/New_York:20200311T203000
DTSTAMP:20260423T155007
CREATED:20200301T034924Z
LAST-MODIFIED:20200301T035011Z
UID:2686-1583953200-1583958600@christophertrapani.com
SUMMARY:Târgul - U. S. PREMIERE
DESCRIPTION:Maximilian Haft\, vioara cu goarna\nChristopher Trapani (UTEMS)\, electronics
URL:http://christophertrapani.com/wordpresssite/event/targul-us-premiere/
LOCATION:Jessen Auditorium\, 200 W 21st St\, Austin\, Texas\, 78712
END:VEVENT
END:VCALENDAR