BEGIN:VCALENDAR
VERSION:2.0
PRODID:-//CHRISTOPHER TRAPANI - ECPv6.15.17.1//NONSGML v1.0//EN
CALSCALE:GREGORIAN
METHOD:PUBLISH
X-ORIGINAL-URL:http://christophertrapani.com/wordpresssite
X-WR-CALDESC:Events for CHRISTOPHER TRAPANI
REFRESH-INTERVAL;VALUE=DURATION:PT1H
X-Robots-Tag:noindex
X-PUBLISHED-TTL:PT1H
BEGIN:VTIMEZONE
TZID:America/New_York
BEGIN:DAYLIGHT
TZOFFSETFROM:-0500
TZOFFSETTO:-0400
TZNAME:EDT
DTSTART:20250309T070000
END:DAYLIGHT
BEGIN:STANDARD
TZOFFSETFROM:-0400
TZOFFSETTO:-0500
TZNAME:EST
DTSTART:20251102T060000
END:STANDARD
BEGIN:DAYLIGHT
TZOFFSETFROM:-0500
TZOFFSETTO:-0400
TZNAME:EDT
DTSTART:20260308T070000
END:DAYLIGHT
BEGIN:STANDARD
TZOFFSETFROM:-0400
TZOFFSETTO:-0500
TZNAME:EST
DTSTART:20261101T060000
END:STANDARD
BEGIN:DAYLIGHT
TZOFFSETFROM:-0500
TZOFFSETTO:-0400
TZNAME:EDT
DTSTART:20270314T070000
END:DAYLIGHT
BEGIN:STANDARD
TZOFFSETFROM:-0400
TZOFFSETTO:-0500
TZNAME:EST
DTSTART:20271107T060000
END:STANDARD
END:VTIMEZONE
BEGIN:VEVENT
DTSTART;TZID=America/New_York:20260106T190000
DTEND;TZID=America/New_York:20260106T210000
DTSTAMP:20260423T191004
CREATED:20251228T224753Z
LAST-MODIFIED:20251228T224753Z
UID:3507-1767726000-1767733200@christophertrapani.com
SUMMARY:Improv with Bob Hoffnar
DESCRIPTION:Bob Hoffnar\, pedal steel  \nline upon line Winter Music Festival
URL:http://christophertrapani.com/wordpresssite/event/improv-with-bob-hoffnar/
LOCATION:CRASHBOX\, 5305 Bolm Rd UNIT 12\, Austin\, TX\, 78721
END:VEVENT
BEGIN:VEVENT
DTSTART;TZID=America/New_York:20260109T190000
DTEND;TZID=America/New_York:20260109T210000
DTSTAMP:20260423T191004
CREATED:20251228T224910Z
LAST-MODIFIED:20251228T224910Z
UID:3510-1767985200-1767992400@christophertrapani.com
SUMMARY:a place where it rains — PREMIERE
DESCRIPTION:Christopher Trapani + line upon line percussion \nline upon line Winter Music Festival
URL:http://christophertrapani.com/wordpresssite/event/a-place-where-it-rains-premiere/
LOCATION:CRASHBOX\, 5305 Bolm Rd UNIT 12\, Austin\, TX\, 78721
END:VEVENT
BEGIN:VEVENT
DTSTART;TZID=America/New_York:20260131T193000
DTEND;TZID=America/New_York:20260131T210000
DTSTAMP:20260423T191004
CREATED:20260104T001822Z
LAST-MODIFIED:20260104T001822Z
UID:3530-1769887800-1769893200@christophertrapani.com
SUMMARY:Five Out of Six
DESCRIPTION:LSU Faculty Composers Recital
URL:http://christophertrapani.com/wordpresssite/event/five-out-of-six/
LOCATION:LSU Digital Media Center\, 888 S Stadium Drive\, Baton Rouge\, LA\, 70808
END:VEVENT
BEGIN:VEVENT
DTSTART;TZID=America/New_York:20260206T190000
DTEND;TZID=America/New_York:20260206T203000
DTSTAMP:20260423T191004
CREATED:20251231T152355Z
LAST-MODIFIED:20251231T152556Z
UID:3519-1770404400-1770409800@christophertrapani.com
SUMMARY:Tesserae
DESCRIPTION:David Felberg\, viola d’amore
URL:http://christophertrapani.com/wordpresssite/event/tesserae-5/
LOCATION:912 3rd St NW\, 912 3rd St NW\, Albuquerque\, New Mexico
END:VEVENT
BEGIN:VEVENT
DTSTART;TZID=America/New_York:20260207T103000
DTEND;TZID=America/New_York:20260207T130000
DTSTAMP:20260423T191004
CREATED:20251231T152513Z
LAST-MODIFIED:20251231T152513Z
UID:3523-1770460200-1770469200@christophertrapani.com
SUMMARY:Waterlines
DESCRIPTION:Chatter New Music
URL:http://christophertrapani.com/wordpresssite/event/waterlines-4/
END:VEVENT
BEGIN:VEVENT
DTSTART;TZID=America/New_York:20260208T103000
DTEND;TZID=America/New_York:20260208T170000
DTSTAMP:20260423T191004
CREATED:20251231T152934Z
LAST-MODIFIED:20251231T152934Z
UID:3525-1770546600-1770570000@christophertrapani.com
SUMMARY:Waterlines
DESCRIPTION:Chatter
URL:http://christophertrapani.com/wordpresssite/event/waterlines-5/
LOCATION:912 3rd St NW\, 912 3rd St NW\, Albuquerque\, New Mexico
END:VEVENT
BEGIN:VEVENT
DTSTART;TZID=America/New_York:20260220T193000
DTEND;TZID=America/New_York:20260220T210000
DTSTAMP:20260423T191004
CREATED:20250709T120642Z
LAST-MODIFIED:20251228T225029Z
UID:3295-1771615800-1771621200@christophertrapani.com
SUMMARY:a place where it rains — Louisiana Premiere
DESCRIPTION:Christopher Trapani + line upon line Percussion
URL:http://christophertrapani.com/wordpresssite/event/new-work-for-trio-louisiana-premiere/
LOCATION:LSU Digital Media Center\, 888 S Stadium Drive\, Baton Rouge\, LA\, 70808
END:VEVENT
BEGIN:VEVENT
DTSTART;TZID=America/New_York:20260221T190000
DTEND;TZID=America/New_York:20260221T190000
DTSTAMP:20260423T191004
CREATED:20250709T120742Z
LAST-MODIFIED:20251228T225104Z
UID:3297-1771700400-1771700400@christophertrapani.com
SUMMARY:a place where it rains — New Orleans Premiere
DESCRIPTION:Christopher Trapani + line upon line Percussion
URL:http://christophertrapani.com/wordpresssite/event/new-work-for-trio-new-orleans-premiere/
LOCATION:New Marigny Theatre\, 2301 Marais St\, New Orleans\, LA\, 70117
END:VEVENT
BEGIN:VEVENT
DTSTART;TZID=America/New_York:20260226T193000
DTEND;TZID=America/New_York:20260226T213000
DTSTAMP:20260423T191004
CREATED:20250707T142839Z
LAST-MODIFIED:20251228T224955Z
UID:3285-1772134200-1772141400@christophertrapani.com
SUMMARY:Luci Bizantine — WORLD PREMIERE
DESCRIPTION:Miranda Cuckson\, violin / Jay Campbell\, cello / Parker Ramsay\, harp
URL:http://christophertrapani.com/wordpresssite/event/new-work-for-violin-cello-and-harp-world-premiere/
LOCATION:Kaufman Music Center\, 129 West 67th Street\, New York\, NY\, 10023
END:VEVENT
BEGIN:VEVENT
DTSTART;TZID=America/New_York:20260325T200000
DTEND;TZID=America/New_York:20260325T210000
DTSTAMP:20260423T191004
CREATED:20260129T133918Z
LAST-MODIFIED:20260129T133918Z
UID:3539-1774468800-1774472400@christophertrapani.com
SUMMARY:Μοιρολόι
DESCRIPTION:Lament: a ritual of letting go \nMaerzmusik
URL:http://christophertrapani.com/wordpresssite/event/%ce%bc%ce%bf%ce%b9%cf%81%ce%bf%ce%bb%cf%8c%ce%b9/
LOCATION:Parochialkirche\, Berlin\, Germany
END:VEVENT
BEGIN:VEVENT
DTSTART;TZID=America/New_York:20260426T150000
DTEND;TZID=America/New_York:20260426T170000
DTSTAMP:20260423T191004
CREATED:20251228T225903Z
LAST-MODIFIED:20251228T225903Z
UID:3516-1777215600-1777222800@christophertrapani.com
SUMMARY:Waterlines
DESCRIPTION:Tony Arnold\, voice / Collage New Music
URL:http://christophertrapani.com/wordpresssite/event/waterlines-3/
LOCATION:Longy School of Music\, Pickman Hall
END:VEVENT
BEGIN:VEVENT
DTSTART;TZID=America/New_York:20260524T190000
DTEND;TZID=America/New_York:20260524T190000
DTSTAMP:20260423T191004
CREATED:20250709T120519Z
LAST-MODIFIED:20250709T120519Z
UID:3293-1779649200-1779649200@christophertrapani.com
SUMMARY:End Words
DESCRIPTION:Ekmeles
URL:http://christophertrapani.com/wordpresssite/event/end-words-2/
LOCATION:DiMenna Center\, 450 W 37th St\, New York
END:VEVENT
END:VCALENDAR